BEGIN:VCALENDAR
VERSION:2.0
PRODID:-//DEPED AURORA - ECPv6.15.17.1//NONSGML v1.0//EN
CALSCALE:GREGORIAN
METHOD:PUBLISH
X-ORIGINAL-URL:https://depedaurora.ph/aurora
X-WR-CALDESC:Events for DEPED AURORA
REFRESH-INTERVAL;VALUE=DURATION:PT1H
X-Robots-Tag:noindex
X-PUBLISHED-TTL:PT1H
BEGIN:VTIMEZONE
TZID:UTC
BEGIN:STANDARD
TZOFFSETFROM:+0000
TZOFFSETTO:+0000
TZNAME:UTC
DTSTART:20220101T000000
END:STANDARD
END:VTIMEZONE
BEGIN:VEVENT
DTSTART;TZID=UTC:20231003T080000
DTEND;TZID=UTC:20231003T170000
DTSTAMP:20260422T122056
CREATED:20231003T021038Z
LAST-MODIFIED:20231003T021125Z
UID:10935-1696320000-1696352400@depedaurora.ph
SUMMARY:WEEKLY STAFF MEETING
DESCRIPTION:
URL:https://depedaurora.ph/aurora/event/weekly-staff-meeting-2/
END:VEVENT
BEGIN:VEVENT
DTSTART;TZID=UTC:20231005T080000
DTEND;TZID=UTC:20231005T170000
DTSTAMP:20260422T122056
CREATED:20231003T021654Z
LAST-MODIFIED:20231003T021654Z
UID:10941-1696492800-1696525200@depedaurora.ph
SUMMARY:WORLD TEACHER'S DAY CELEBRATION
DESCRIPTION:
URL:https://depedaurora.ph/aurora/event/world-teachers-day-celebration/
END:VEVENT
BEGIN:VEVENT
DTSTART;TZID=UTC:20231007T080000
DTEND;TZID=UTC:20231007T170000
DTSTAMP:20260422T122056
CREATED:20230918T052513Z
LAST-MODIFIED:20230918T052513Z
UID:10819-1696665600-1696698000@depedaurora.ph
SUMMARY:ONLINE DIVISION FEDERATION ELECTION OF THE BARKADA KONTRA DROGA (BKD) AND YOUTH FOR ENVIRONMENT IN SCHOOLS ORGANIZATION (YES-O) OFFICERS FOR S.Y. 2023-2024
DESCRIPTION:ONLINE DIVISION FEDERATION ELECTION OF THE BARKADA KONTRA DROGA (BKD) AND YOUTH FOR ENVIRONMENT IN SCHOOLS ORGANIZATION (YES-O) OFFICERS FOR S.Y. 2023-2024
URL:https://depedaurora.ph/aurora/event/online-division-federation-election-of-the-barkada-kontra-droga-bkd-and-youth-for-environment-in-schools-organization-yes-o-officers-for-s-y-2023-2024/
END:VEVENT
BEGIN:VEVENT
DTSTART;TZID=UTC:20231010T080000
DTEND;TZID=UTC:20231010T170000
DTSTAMP:20260422T122056
CREATED:20231003T020956Z
LAST-MODIFIED:20231003T021010Z
UID:10933-1696924800-1696957200@depedaurora.ph
SUMMARY:WEEKLY STAFF MEETING
DESCRIPTION:
URL:https://depedaurora.ph/aurora/event/weekly-staff-meeting/
END:VEVENT
BEGIN:VEVENT
DTSTART;TZID=UTC:20231012T080000
DTEND;TZID=UTC:20231012T170000
DTSTAMP:20260422T122056
CREATED:20231011T075243Z
LAST-MODIFIED:20231011T075243Z
UID:11055-1697097600-1697130000@depedaurora.ph
SUMMARY:TRAINING OF SCHOOL LEADERS ON THE IMPLEMENTATION OF DEPED PROGRAMS\, PROJECTS AND ACTIVITIES
DESCRIPTION:AMCO BEACH RESOT\, BRGY. SABANG\, BALER\, AURORA
URL:https://depedaurora.ph/aurora/event/training-of-school-leaders-on-the-implementation-of-deped-programs-projects-and-activities/
END:VEVENT
BEGIN:VEVENT
DTSTART;TZID=UTC:20231013T080000
DTEND;TZID=UTC:20231013T170000
DTSTAMP:20260422T122056
CREATED:20231011T081644Z
LAST-MODIFIED:20231011T081644Z
UID:11057-1697184000-1697216400@depedaurora.ph
SUMMARY:SYNCHRONIZATION OF SCHOOLS AND SGOD PROGRAM AND PROJECTS FOR SY.2023-2024
DESCRIPTION:PACIFIC WAVE INN ANNEX\, BRGY. SABANG BALER AURORA
URL:https://depedaurora.ph/aurora/event/synchronization-of-schools-and-sgod-program-and-projects-for-sy-2023-2024/
END:VEVENT
BEGIN:VEVENT
DTSTART;TZID=UTC:20231013T150000
DTEND;TZID=UTC:20231013T170000
DTSTAMP:20260422T122056
CREATED:20231011T075123Z
LAST-MODIFIED:20231011T075123Z
UID:11053-1697209200-1697216400@depedaurora.ph
SUMMARY:NOTICE OF CONSULTATIVE MEETING OF ELEM.\,JHS\, AND SHS SCIENCE COORDINATORS
DESCRIPTION:
URL:https://depedaurora.ph/aurora/event/notice-of-consultative-meeting-of-elem-jhs-and-shs-science-coordinators/
END:VEVENT
BEGIN:VEVENT
DTSTART;TZID=UTC:20231014T080000
DTEND;TZID=UTC:20231014T170000
DTSTAMP:20260422T122056
CREATED:20231012T035052Z
LAST-MODIFIED:20231012T035052Z
UID:11063-1697270400-1697302800@depedaurora.ph
SUMMARY:RETOOLING KEY STAGE 2 TEACHERS WITH STRATEGIES FOR READING REMEDIATION AND ENHANCEMENT
DESCRIPTION:AURORA NATIONAL SCIENCE HIGH SCHOOL
URL:https://depedaurora.ph/aurora/event/retooling-key-stage-2-teachers-with-strategies-for-reading-remediation-and-enhancement-2/
END:VEVENT
BEGIN:VEVENT
DTSTART;TZID=UTC:20231017T080000
DTEND;TZID=UTC:20231017T170000
DTSTAMP:20260422T122056
CREATED:20231003T021145Z
LAST-MODIFIED:20231003T021145Z
UID:10937-1697529600-1697562000@depedaurora.ph
SUMMARY:WEEKLY STAFF MEETING
DESCRIPTION:
URL:https://depedaurora.ph/aurora/event/weekly-staff-meeting-3/
END:VEVENT
BEGIN:VEVENT
DTSTART;TZID=UTC:20231021T080000
DTEND;TZID=UTC:20231021T170000
DTSTAMP:20260422T122056
CREATED:20231012T035200Z
LAST-MODIFIED:20231012T035200Z
UID:11065-1697875200-1697907600@depedaurora.ph
SUMMARY:RETOOLING KEY STAGE 2 TEACHERS WITH STRATEGIES FOR READING REMEDIATION AND ENHANCEMENT
DESCRIPTION:
URL:https://depedaurora.ph/aurora/event/retooling-key-stage-2-teachers-with-strategies-for-reading-remediation-and-enhancement-3/
END:VEVENT
BEGIN:VEVENT
DTSTART;TZID=UTC:20231024T080000
DTEND;TZID=UTC:20231024T170000
DTSTAMP:20260422T122056
CREATED:20231003T021216Z
LAST-MODIFIED:20231003T021216Z
UID:10939-1698134400-1698166800@depedaurora.ph
SUMMARY:WEEKLY STAFF MEETING
DESCRIPTION:
URL:https://depedaurora.ph/aurora/event/weekly-staff-meeting-4/
END:VEVENT
BEGIN:VEVENT
DTSTART;TZID=UTC:20231030T080000
DTEND;TZID=UTC:20231030T170000
DTSTAMP:20260422T122056
CREATED:20230907T034032Z
LAST-MODIFIED:20230907T034032Z
UID:10750-1698652800-1698685200@depedaurora.ph
SUMMARY:BARANGAY ELECTION DAY 2023
DESCRIPTION:
URL:https://depedaurora.ph/aurora/event/barangay-election-day-2023/
END:VEVENT
BEGIN:VEVENT
DTSTART;TZID=UTC:20231031T080000
DTEND;TZID=UTC:20231031T170000
DTSTAMP:20260422T122056
CREATED:20231003T021752Z
LAST-MODIFIED:20231003T021752Z
UID:10943-1698739200-1698771600@depedaurora.ph
SUMMARY:WEEKLY STAFF MEETING
DESCRIPTION:
URL:https://depedaurora.ph/aurora/event/weekly-staff-meeting-5/
END:VEVENT
END:VCALENDAR