BEGIN:VCALENDAR
VERSION:2.0
PRODID:-//DEPED AURORA - ECPv6.15.17.1//NONSGML v1.0//EN
CALSCALE:GREGORIAN
METHOD:PUBLISH
X-WR-CALNAME:DEPED AURORA
X-ORIGINAL-URL:https://depedaurora.ph/aurora
X-WR-CALDESC:Events for DEPED AURORA
REFRESH-INTERVAL;VALUE=DURATION:PT1H
X-Robots-Tag:noindex
X-PUBLISHED-TTL:PT1H
BEGIN:VTIMEZONE
TZID:UTC
BEGIN:STANDARD
TZOFFSETFROM:+0000
TZOFFSETTO:+0000
TZNAME:UTC
DTSTART:20220101T000000
END:STANDARD
END:VTIMEZONE
BEGIN:VEVENT
DTSTART;TZID=UTC:20230905T080000
DTEND;TZID=UTC:20230909T170000
DTSTAMP:20260422T135018
CREATED:20230724T072611Z
LAST-MODIFIED:20230724T072611Z
UID:10442-1693900800-1694278800@depedaurora.ph
SUMMARY:CHILD PROTECTION SEMINAR
DESCRIPTION:CHILD PROTECTION SEMINAR \n1ST WEEK OF SEPTEMBER (4DAYS)
URL:https://depedaurora.ph/aurora/event/child-protection-seminar/
END:VEVENT
BEGIN:VEVENT
DTSTART;TZID=UTC:20230908T080000
DTEND;TZID=UTC:20230908T170000
DTSTAMP:20260422T135018
CREATED:20230908T015927Z
LAST-MODIFIED:20230908T015927Z
UID:10760-1694160000-1694192400@depedaurora.ph
SUMMARY:VIRTUAL ORIENTATION ON THE INSTITUTIONAL GUIDELINES ON THE IMPLEMENTATION OF SBFP CUM FOOD SAFETY PROTOCOLS AND CANTEEN MANAGEMENT OPERATIONS
DESCRIPTION:
URL:https://depedaurora.ph/aurora/event/virtual-orientation-on-the-institutional-guidelines-on-the-implementation-of-sbfp-cum-food-safety-protocols-and-canteen-management-operations/
END:VEVENT
BEGIN:VEVENT
DTSTART;TZID=UTC:20230909T080000
DTEND;TZID=UTC:20230909T170000
DTSTAMP:20260422T135018
CREATED:20230904T050550Z
LAST-MODIFIED:20230904T050550Z
UID:10731-1694246400-1694278800@depedaurora.ph
SUMMARY:CONDUCT ON DIVISION TRAINING ON HIGHER ORDER THINKING SKILLS PROFESSIONA LEARNING PACKAGES FOR MATH SCIENCE AND ENGLISH TEACHERS
DESCRIPTION:CONDUCT ON DIVISION TRAINING ON HIGHER ORDER THINKING SKILLS PROFESSIONA LEARNING PACKAGES FOR MATH SCIENCE AND ENGLISH TEACHERS \nSEPTEMBER 9\,16\,23 AND 30\, 2023
URL:https://depedaurora.ph/aurora/event/conduct-on-division-training-on-higher-order-thinking-skills-professiona-learning-packages-for-math-science-and-english-teachers/
END:VEVENT
BEGIN:VEVENT
DTSTART;TZID=UTC:20230909T080000
DTEND;TZID=UTC:20230909T170000
DTSTAMP:20260422T135018
CREATED:20230906T083059Z
LAST-MODIFIED:20230906T083059Z
UID:10744-1694246400-1694278800@depedaurora.ph
SUMMARY:CONDUCT OF TRAINING ON HIGHER ORDER THINKING SKILLS PROFESSIONAL LEARNING PACKAGES (HOTS-PLP) FOR MATHEMATICS\, SCIENCE AND ENGLISH TEACHERS
DESCRIPTION:CONDUCT OF TRAINING ON HIGHER ORDER THINKING SKILLS PROFESSIONAL LEARNING PACKAGES (HOTS-PLP) FOR MATHEMATICS\, SCIENCE AND ENGLISH TEACHERS \nSEPTEMBER 9\,16\,23 AND 30\, 2023
URL:https://depedaurora.ph/aurora/event/conduct-of-training-on-higher-order-thinking-skills-professional-learning-packages-hots-plp-for-mathematics-science-and-english-teachers/
END:VEVENT
BEGIN:VEVENT
DTSTART;TZID=UTC:20230912T080000
DTEND;TZID=UTC:20230912T170000
DTSTAMP:20260422T135018
CREATED:20230911T053710Z
LAST-MODIFIED:20230911T053710Z
UID:10770-1694505600-1694538000@depedaurora.ph
SUMMARY:PERFORMANCE APPRAISAL CUM ANNUAL REVIEW ON THE IMPLEMENTATION OF OPLAN KALUSUGAN SA DEPED (OK Sa DepEd) PROGRAM AND SERVICES 2023 AND SCHOOL HEALTH SECTION ACTIVITY UPDATES
DESCRIPTION:PERFORMANCE APPRAISAL CUM ANNUAL REVIEW ON THE IMPLEMENTATION OF OPLAN KALUSUGAN SA DEPED (OK Sa DepEd) PROGRAM AND SERVICES 2023 AND SCHOOL HEALTH SECTION ACTIVITY UPDATES \nPROPONENTS: HEALTH \nBARANGAY SIMBAHAN\, DINALUNGAN\, AURORA
URL:https://depedaurora.ph/aurora/event/performance-appraisal-cum-annual-review-on-the-implementation-of-oplan-kalusugan-sa-deped-ok-sa-deped-program-and-services-2023-and-school-health-section-activity-updates/
END:VEVENT
BEGIN:VEVENT
DTSTART;TZID=UTC:20230913T080000
DTEND;TZID=UTC:20230913T170000
DTSTAMP:20260422T135018
CREATED:20230911T053847Z
LAST-MODIFIED:20230911T053847Z
UID:10772-1694592000-1694624400@depedaurora.ph
SUMMARY:SEVENTH REGULAR REGIONAL MANAGEMENT COMMITTEE MEETING FOR FY 2023
DESCRIPTION:SEVENTH REGULAR REGIONAL MANAGEMENT COMMITTEE MEETING FOR FY 2023\nAQUINO HALL DEPED REGION-III PAMPANGA
URL:https://depedaurora.ph/aurora/event/seventh-regular-regional-management-committee-meeting-for-fy-2023/
END:VEVENT
BEGIN:VEVENT
DTSTART;TZID=UTC:20230913T080000
DTEND;TZID=UTC:20230915T170000
DTSTAMP:20260422T135018
CREATED:20230912T061932Z
LAST-MODIFIED:20230912T061932Z
UID:10791-1694592000-1694797200@depedaurora.ph
SUMMARY:CONDUCT OF THE ORIENTATION WORKSHOP ON THE PREPARATION OF THE 2024 SCHOOL ANNUAL IMPLEMENTATION PLAN (AIP)
DESCRIPTION:CONDUCT OF THE ORIENTATION WORKSHOP ON THE PREPARATION OF THE 2024 SCHOOL ANNUAL IMPLEMENTATION PLAN (AIP) \nAURORA SPORTS COMPLEX\, BARANGAY RESERVA\, BALER\, AURORA
URL:https://depedaurora.ph/aurora/event/conduct-of-the-orientation-workshop-on-the-preparation-of-the-2024-school-annual-implementation-plan-aip/
END:VEVENT
BEGIN:VEVENT
DTSTART;TZID=UTC:20230916T080000
DTEND;TZID=UTC:20230916T170000
DTSTAMP:20260422T135018
CREATED:20230811T080601Z
LAST-MODIFIED:20230811T080601Z
UID:10596-1694851200-1694883600@depedaurora.ph
SUMMARY:SUB-ARO Order No: DEPED-ROIII-2023-05-676 Re: FY 2023 Program Support Fund for the Implementation of SPED Program to the DepEd Schools and Offices
DESCRIPTION:PROPONENT: M. ORENA \nPROPOSED DATE: SEPT. 16 AND 23\, 2023
URL:https://depedaurora.ph/aurora/event/sub-aro-order-no-deped-roiii-2023-05-676-re-fy-2023-program-support-fund-for-the-implementation-of-sped-program-to-the-deped-schools-and-offices/
END:VEVENT
BEGIN:VEVENT
DTSTART;TZID=UTC:20230919T090000
DTEND;TZID=UTC:20230919T170000
DTSTAMP:20260422T135018
CREATED:20230831T085453Z
LAST-MODIFIED:20230831T085453Z
UID:10711-1695114000-1695142800@depedaurora.ph
SUMMARY:TRAINING OF SCHOOL LEADERS ON THE IMPLEMENTATION OF DEPED PROGRAMS\, PROJECTS\, AND ACTIVITIES FOR CALENDAR YEAR 2023
DESCRIPTION:
URL:https://depedaurora.ph/aurora/event/training-of-school-leaders-on-the-implementation-of-deped-programs-projects-and-activities-for-calendar-year-2023/
END:VEVENT
BEGIN:VEVENT
DTSTART;TZID=UTC:20230923T080000
DTEND;TZID=UTC:20230923T170000
DTSTAMP:20260422T135018
CREATED:20230814T090309Z
LAST-MODIFIED:20230814T090309Z
UID:10611-1695456000-1695488400@depedaurora.ph
SUMMARY:RETOOLING KEY STAGE 2 TEACHERS WITH STRATEGIES FOR READING REMEDIATION AND ENHANCEMENT
DESCRIPTION:RETOOLING KEY STAGE 2 TEACHERS WITH STRATEGIES FOR READING REMEDIATION AND ENHANCEMENT \nSEPTEMBER 23 AND SEPTEMBER 30\, 2023 \nAURORA NATIONAL SCIENCE HIGH SCHOOL
URL:https://depedaurora.ph/aurora/event/retooling-key-stage-2-teachers-with-strategies-for-reading-remediation-and-enhancement/
END:VEVENT
BEGIN:VEVENT
DTSTART;TZID=UTC:20230923T080000
DTEND;TZID=UTC:20230923T170000
DTSTAMP:20260422T135018
CREATED:20230823T033816Z
LAST-MODIFIED:20230823T033816Z
UID:10665-1695456000-1695488400@depedaurora.ph
SUMMARY:VIRTUAL DIVISION LEADERESHIP TRAINING 2023
DESCRIPTION:PROPONENT: JUVY LYN C. MIRANDA
URL:https://depedaurora.ph/aurora/event/virtual-division-leadereship-training-2023/
END:VEVENT
BEGIN:VEVENT
DTSTART;TZID=UTC:20230927T080000
DTEND;TZID=UTC:20230927T170000
DTSTAMP:20260422T135018
CREATED:20230912T003857Z
LAST-MODIFIED:20230912T003857Z
UID:10782-1695801600-1695834000@depedaurora.ph
SUMMARY:OPEN RANKING FOR PROJECT DEVELOPMENT OFFICER-II AND ADMINISTRATIVE OFFICER II
DESCRIPTION:
URL:https://depedaurora.ph/aurora/event/open-ranking-for-project-development-officer-ii-and-administrative-officer-ii/
END:VEVENT
BEGIN:VEVENT
DTSTART;TZID=UTC:20230928T080000
DTEND;TZID=UTC:20230928T170000
DTSTAMP:20260422T135018
CREATED:20230912T003837Z
LAST-MODIFIED:20230912T003837Z
UID:10780-1695888000-1695920400@depedaurora.ph
SUMMARY:OPEN RANKING FOR PUBLIC SCHOOLS DISTRICT SUPERVISOR AND ADMINISTRATIVE AIDE-II
DESCRIPTION:
URL:https://depedaurora.ph/aurora/event/open-ranking-for-public-schools-district-supervisor-and-administrative-aide-ii/
END:VEVENT
BEGIN:VEVENT
DTSTART;TZID=UTC:20230930T080000
DTEND;TZID=UTC:20230930T170000
DTSTAMP:20260422T135018
CREATED:20230918T052930Z
LAST-MODIFIED:20230918T052930Z
UID:10821-1696060800-1696093200@depedaurora.ph
SUMMARY:VIRTUAL DIVISION FEDERATED SUPREME ELEMENTARY LEARNER GOVERNMENT (SELG) AND SUPREME SECONDARY LEARNER GOVERNMENT (SSLG) OFFICERS PLANNING ACTIVITY
DESCRIPTION:VIRTUAL DIVISION FEDERATED SUPREME ELEMENTARY LEARNER GOVERNMENT (SELG) AND SUPREME SECONDARY LEARNER GOVERNMENT (SSLG) OFFICERS PLANNING ACTIVITY
URL:https://depedaurora.ph/aurora/event/virtual-division-federated-supreme-elementary-learner-government-selg-and-supreme-secondary-learner-government-sslg-officers-planning-activity/
END:VEVENT
END:VCALENDAR