BEGIN:VCALENDAR
VERSION:2.0
PRODID:-//DEPED AURORA - ECPv6.15.17.1//NONSGML v1.0//EN
CALSCALE:GREGORIAN
METHOD:PUBLISH
X-WR-CALNAME:DEPED AURORA
X-ORIGINAL-URL:https://depedaurora.ph/aurora
X-WR-CALDESC:Events for DEPED AURORA
REFRESH-INTERVAL;VALUE=DURATION:PT1H
X-Robots-Tag:noindex
X-PUBLISHED-TTL:PT1H
BEGIN:VTIMEZONE
TZID:UTC
BEGIN:STANDARD
TZOFFSETFROM:+0000
TZOFFSETTO:+0000
TZNAME:UTC
DTSTART:20210101T000000
END:STANDARD
END:VTIMEZONE
BEGIN:VEVENT
DTSTART;TZID=UTC:20220906T080000
DTEND;TZID=UTC:20221128T170000
DTSTAMP:20260423T070101
CREATED:20220803T071355Z
LAST-MODIFIED:20220803T071355Z
UID:7942-1662451200-1669654800@depedaurora.ph
SUMMARY:PANLUNAS SA PAGBASA PARA SA MAG-AARAL SA IKALAWANG BAITANG
DESCRIPTION:DIVISION MEMORANDUM NO. 153 s. 2022 \nPANLUNAS SA PAGBASA PARA SA MAG-AARAL SA IKALAWANG BAITANG
URL:https://depedaurora.ph/aurora/event/panlunas-sa-pagbasa-para-sa-mag-aaral-sa-ikalawang-baitang/
END:VEVENT
BEGIN:VEVENT
DTSTART;TZID=UTC:20221125T080000
DTEND;TZID=UTC:20221125T170000
DTSTAMP:20260423T070101
CREATED:20221123T092759Z
LAST-MODIFIED:20221227T060421Z
UID:8509-1669363200-1669395600@depedaurora.ph
SUMMARY:CAPACITY TRAINING ON MUSHROOM PRODUCTION
DESCRIPTION:DIVISION MEMORANDUM NO. 245 S. 2022 \nCAPACITY TRAINING ON MUSHROOM PRODUCTION
URL:https://depedaurora.ph/aurora/event/capacity-training-on-mushroom-production/
END:VEVENT
BEGIN:VEVENT
DTSTART;TZID=UTC:20221130T080000
DTEND;TZID=UTC:20221130T170000
DTSTAMP:20260423T070101
CREATED:20221122T085456Z
LAST-MODIFIED:20221128T010611Z
UID:8402-1669795200-1669827600@depedaurora.ph
SUMMARY:DIVISION SIMULTANEOUS TREE PLANTING ACTIVITY
DESCRIPTION:DIVISION MEMORANDUM NO. 242 S. 2022 \nDIVISION SIMULTANEOUS TREE PLANTING ACTIVITY
URL:https://depedaurora.ph/aurora/event/division-simultaneous-tree-planting-activity/
END:VEVENT
END:VCALENDAR