BEGIN:VCALENDAR
VERSION:2.0
PRODID:-//DEPED AURORA - ECPv6.15.17.1//NONSGML v1.0//EN
CALSCALE:GREGORIAN
METHOD:PUBLISH
X-ORIGINAL-URL:https://depedaurora.ph/aurora
X-WR-CALDESC:Events for DEPED AURORA
REFRESH-INTERVAL;VALUE=DURATION:PT1H
X-Robots-Tag:noindex
X-PUBLISHED-TTL:PT1H
BEGIN:VTIMEZONE
TZID:UTC
BEGIN:STANDARD
TZOFFSETFROM:+0000
TZOFFSETTO:+0000
TZNAME:UTC
DTSTART:20250101T000000
END:STANDARD
END:VTIMEZONE
BEGIN:VEVENT
DTSTART;TZID=UTC:20260506T080000
DTEND;TZID=UTC:20260508T170000
DTSTAMP:20260423T151120
CREATED:20260421T084915Z
LAST-MODIFIED:20260421T084915Z
UID:17351-1778054400-1778259600@depedaurora.ph
SUMMARY:CORRIGENDUM TO OFFICE MEMORANDUM NO. 017\, S. 2026 (EMPOWERING INCLUSIONS: A WORKSHOP ON GAD COMPLIANCE\, STRATEGIC IMPLEMENTATION\, AND ADVOCACY FOR SDO PERSONNEL)
DESCRIPTION:OFFICE MEMORANDUM NO. 028\, s. 2026 \nCORRIGENDUM TO OFFICE MEMORANDUM NO. 017\, S. 2026 (EMPOWERING INCLUSIONS: A WORKSHOP ON GAD COMPLIANCE\, STRATEGIC IMPLEMENTATION\, AND ADVOCACY FOR SDO PERSONNEL)
URL:https://depedaurora.ph/aurora/event/corrigendum-to-office-memorandum-no-017-s-2026-empowering-inclusions-a-workshop-on-gad-compliance-strategic-implementation-and-advocacy-for-sdo-personnel/
END:VEVENT
END:VCALENDAR