BEGIN:VCALENDAR
VERSION:2.0
PRODID:-//DEPED AURORA - ECPv6.15.17.1//NONSGML v1.0//EN
CALSCALE:GREGORIAN
METHOD:PUBLISH
X-WR-CALNAME:DEPED AURORA
X-ORIGINAL-URL:https://depedaurora.ph/aurora
X-WR-CALDESC:Events for DEPED AURORA
REFRESH-INTERVAL;VALUE=DURATION:PT1H
X-Robots-Tag:noindex
X-PUBLISHED-TTL:PT1H
BEGIN:VTIMEZONE
TZID:UTC
BEGIN:STANDARD
TZOFFSETFROM:+0000
TZOFFSETTO:+0000
TZNAME:UTC
DTSTART:20230101T000000
END:STANDARD
END:VTIMEZONE
BEGIN:VEVENT
DTSTART;VALUE=DATE:20240801
DTEND;VALUE=DATE:20240901
DTSTAMP:20260420T071902
CREATED:20240802T082705Z
LAST-MODIFIED:20240807T011853Z
UID:13043-1722470400-1725148799@depedaurora.ph
SUMMARY:PAGDIRIWANG NG BUWAN NG WIKANG PAMBANSA 2024
DESCRIPTION:DIVISION MEMORANDUM NO. 204\, s. 2024 \n 
URL:https://depedaurora.ph/aurora/event/pagdiriwang-ng-buwan-ng-wikang-pambansa-2024/
END:VEVENT
BEGIN:VEVENT
DTSTART;TZID=UTC:20240806T083000
DTEND;TZID=UTC:20240806T170000
DTSTAMP:20260420T071902
CREATED:20240805T070614Z
LAST-MODIFIED:20240807T013206Z
UID:13045-1722933000-1722963600@depedaurora.ph
SUMMARY:NOTICE OF REGULAR MEETING OF THE SCHOOLS DIVISION EXECOM
DESCRIPTION:OFFICE MEMORANDUM NO. 043\, s. 2024
URL:https://depedaurora.ph/aurora/event/notice-of-regular-meeting-of-the-schools-division-execom/
END:VEVENT
BEGIN:VEVENT
DTSTART;TZID=UTC:20240807T080000
DTEND;TZID=UTC:20240809T170000
DTSTAMP:20260420T071902
CREATED:20240805T010757Z
LAST-MODIFIED:20241106T023502Z
UID:13742-1723017600-1723222800@depedaurora.ph
SUMMARY:CONTINGENCY PLANNING TRAINING-WORKSHOP FOR SDO PERSONNEL
DESCRIPTION:DIVISION MEMORANDUM NO. 205\, s. 2024 \n 
URL:https://depedaurora.ph/aurora/event/contingency-planning-training-workshop-for-sdo-personnel-2/
END:VEVENT
BEGIN:VEVENT
DTSTART;TZID=UTC:20240807T080000
DTEND;TZID=UTC:20240809T170000
DTSTAMP:20260420T071902
CREATED:20240805T082938Z
LAST-MODIFIED:20240807T015207Z
UID:13050-1723017600-1723222800@depedaurora.ph
SUMMARY:CONTINGENCY PLANNING TRAINING-WORKSHOP FOR SDO PERSONNEL
DESCRIPTION:DIVISION MEMORANDUM NO. 205\, s. 2024
URL:https://depedaurora.ph/aurora/event/contingency-planning-training-workshop-for-sdo-personnel/
LOCATION:Pacific Waves Inn\, Sabang\, Baler\, Aurora
END:VEVENT
BEGIN:VEVENT
DTSTART;TZID=UTC:20240807T083000
DTEND;TZID=UTC:20240807T120000
DTSTAMP:20260420T071902
CREATED:20240806T071728Z
LAST-MODIFIED:20240807T014557Z
UID:13047-1723019400-1723032000@depedaurora.ph
SUMMARY:DIVISION ORIENTATION ON THE PHILIPPINE QUALITY AWARD SELF-ASSESSMENT TOOL – STEP 3
DESCRIPTION:OFFICE MEMORANDUM NO. 044\, s. 2024
URL:https://depedaurora.ph/aurora/event/division-orientation-on-the-philippine-quality-award-self-assessment-tool-step-3/
END:VEVENT
BEGIN:VEVENT
DTSTART;TZID=UTC:20240814T130000
DTEND;TZID=UTC:20240814T150000
DTSTAMP:20260420T071902
CREATED:20240812T050646Z
LAST-MODIFIED:20241106T051119Z
UID:13751-1723640400-1723647600@depedaurora.ph
SUMMARY:SCHOOLS DIVISION VIRTUAL ORIENTATION ON THE CONDUCT OF LEARNING ACTION CELL (LAC) IN ALTERNATIVE LEARNING SYSTEM (ALS)
DESCRIPTION:DIVISION MEMORANDUM NO. 213\, s. 2024
URL:https://depedaurora.ph/aurora/event/schools-division-virtual-orientation-on-the-conduct-of-learning-action-cell-lac-in-alternative-learning-system-als/
END:VEVENT
BEGIN:VEVENT
DTSTART;TZID=UTC:20240817T070000
DTEND;TZID=UTC:20240817T070000
DTSTAMP:20260420T071902
CREATED:20240805T072326Z
LAST-MODIFIED:20240807T020638Z
UID:13055-1723878000-1723878000@depedaurora.ph
SUMMARY:PROVINCIAL DRRM POSTER-MAKING CONTEST\, ESSAY WRITING CONTEST\, AND QUIZ BEE
DESCRIPTION:DIVISION MEMORANDUM NO. 202\, s. 2024
URL:https://depedaurora.ph/aurora/event/provincial-drrm-poster-making-contest-essay-writing-contest-and-quiz-bee/
LOCATION:Aurora National High School\, Barangay Reserva\, Baler\, Aurora
END:VEVENT
BEGIN:VEVENT
DTSTART;TZID=UTC:20240820T080000
DTEND;TZID=UTC:20240820T170000
DTSTAMP:20260420T071902
CREATED:20240812T052007Z
LAST-MODIFIED:20241106T052234Z
UID:13757-1724140800-1724173200@depedaurora.ph
SUMMARY:2024 DIVISION VIRTUAL TRAINING ON GULAYAN SA PAARALAN PROGRAM (GPP)
DESCRIPTION:DIVISION MEMORANDUM NO. 215\, s. 2024
URL:https://depedaurora.ph/aurora/event/2024-division-virtual-training-on-gulayan-sa-paaralan-program-gpp/
END:VEVENT
BEGIN:VEVENT
DTSTART;TZID=UTC:20240822T090000
DTEND;TZID=UTC:20240822T090000
DTSTAMP:20260420T071902
CREATED:20240820T062630Z
LAST-MODIFIED:20241106T063047Z
UID:13763-1724317200-1724317200@depedaurora.ph
SUMMARY:SERIES OF DEVELOPMENT TRAINING FOR SCHOOLHEADS: 5th TRAINING-WORKSHOP FOR SCHOOL LEADERS ON THE IMPLEMENTATION OF DEPED PROGRAMS\, PROJECTS\, AND ACTIVITIES FOR CALENDAR YEAR 2024
DESCRIPTION:DIVISION MEMORANDUM NO. 225\, s. 2024
URL:https://depedaurora.ph/aurora/event/series-of-development-training-for-schoolheads-5th-training-workshop-for-school-leaders-on-the-implementation-of-deped-programs-projects-and-activities-for-calendar-year-2024/
END:VEVENT
BEGIN:VEVENT
DTSTART;TZID=UTC:20240823T080000
DTEND;TZID=UTC:20240827T170000
DTSTAMP:20260420T071902
CREATED:20240815T060751Z
LAST-MODIFIED:20241106T061153Z
UID:13761-1724400000-1724778000@depedaurora.ph
SUMMARY:2024 SCHOOLS DIVISION SEARCH FOR OUTSTANDING TEACHERS AND SCHOOLHEADS
DESCRIPTION:DIVISION MEMORANDUM NO. 222\, s. 2024 \n  \n 
URL:https://depedaurora.ph/aurora/event/2024-schools-division-search-for-outstanding-teachers-and-schoolheads/
END:VEVENT
BEGIN:VEVENT
DTSTART;TZID=UTC:20240824T080000
DTEND;TZID=UTC:20240824T170000
DTSTAMP:20260420T071902
CREATED:20240805T073002Z
LAST-MODIFIED:20240807T015842Z
UID:13053-1724486400-1724518800@depedaurora.ph
SUMMARY:ONLINE DIVISION FEDERATION ELECTION OF THE BARKADA KONTRA DROGA (BKD) AND YOUTH FOR ENVIRONMENT IN SCHOOLS ORGANIZATION (YES-O) OFFICERS FOR S.Y. 2024-2025
DESCRIPTION:DIVISION MEMORANDUM NO. 203\, s. 2024 \n 
URL:https://depedaurora.ph/aurora/event/online-division-federation-election-of-the-barkada-kontra-droga-bkd-and-youth-for-environment-in-schools-organization-yes-o-officers-for-s-y-2024-2025/
END:VEVENT
BEGIN:VEVENT
DTSTART;TZID=UTC:20240824T080000
DTEND;TZID=UTC:20240831T170000
DTSTAMP:20260420T071902
CREATED:20240812T051147Z
LAST-MODIFIED:20241106T051905Z
UID:13755-1724486400-1725123600@depedaurora.ph
SUMMARY:TRAINING WORKSHOP ON THE DEVELOPMENT OF UNIFIED DLP/DLL OF EPP (GRADE 4-6) AND TLE (GRADE 7-10)
DESCRIPTION:DIVISION MEMORANDUM NO. 214\, s. 2024
URL:https://depedaurora.ph/aurora/event/training-workshop-on-the-development-of-unified-dlp-dll-of-epp-grade-4-6-and-tle-grade-7-10/
END:VEVENT
BEGIN:VEVENT
DTSTART;TZID=UTC:20240902T000000
DTEND;TZID=UTC:20240906T000000
DTSTAMP:20260420T071902
CREATED:20241009T080344Z
LAST-MODIFIED:20241108T080542Z
UID:13825-1725235200-1725580800@depedaurora.ph
SUMMARY:RESULTS OF THE 2024 DIVISION SEARCH FOR OUTSTANDING TEACHERS AND SCHOOL HEADS
DESCRIPTION:DIVISION MEMORANDUM NO. 286\, s. 2024
URL:https://depedaurora.ph/aurora/event/results-of-the-2024-division-search-for-outstanding-teachers-and-school-heads/
END:VEVENT
BEGIN:VEVENT
DTSTART;TZID=UTC:20240902T000000
DTEND;TZID=UTC:20240920T000000
DTSTAMP:20260420T071902
CREATED:20240903T005546Z
LAST-MODIFIED:20241107T013408Z
UID:13778-1725235200-1726790400@depedaurora.ph
SUMMARY:DIVISION – WIDE ADMINISTRATION OF RAPID MATHEMATICS ASSESSMENT (RMA) FOR GRADES 1 TO 3 LEARNERS
DESCRIPTION:DIVISION MEMORANDUM NO. 238\, s. 2024
URL:https://depedaurora.ph/aurora/event/division-wide-administration-of-rapid-mathematics-assessment-rma-for-grades-1-to-3-learners/
END:VEVENT
BEGIN:VEVENT
DTSTART;TZID=UTC:20240905T080000
DTEND;TZID=UTC:20241127T170000
DTSTAMP:20260420T071902
CREATED:20240902T063056Z
LAST-MODIFIED:20241106T063635Z
UID:13765-1725523200-1732726800@depedaurora.ph
SUMMARY:CONDUCT OF WELLNESS WEDNESDAY
DESCRIPTION:DIVISION MEMORANDUM NO. 235\, s. 2024
URL:https://depedaurora.ph/aurora/event/conduct-of-wellness-wednesday/
END:VEVENT
BEGIN:VEVENT
DTSTART;TZID=UTC:20240906T090000
DTEND;TZID=UTC:20240906T090000
DTSTAMP:20260420T071902
CREATED:20240902T063727Z
LAST-MODIFIED:20241106T064003Z
UID:13768-1725613200-1725613200@depedaurora.ph
SUMMARY:PROVISION OF TECHNICAL ASSISTANCE TO ELEMENTARY SCHOOLS ON SCHOOL GOVERNANCE COUNCIL (SGC) FUNCTIONALITY
DESCRIPTION:DIVISION MEMORANDUM NO. 236\, s. 2024
URL:https://depedaurora.ph/aurora/event/provision-of-technical-assistance-to-elementary-schools-on-school-governance-council-sgc-functionality/
END:VEVENT
BEGIN:VEVENT
DTSTART;TZID=UTC:20240910T000000
DTEND;TZID=UTC:20240911T000000
DTSTAMP:20260420T071902
CREATED:20240902T064009Z
LAST-MODIFIED:20241106T075445Z
UID:13770-1725926400-1726012800@depedaurora.ph
SUMMARY:CONDUCT OF 2024 GAWAD SpeciALS
DESCRIPTION:DIVISION MEMORANDUM NO. 237\, s. 2024
URL:https://depedaurora.ph/aurora/event/conduct-of-2024-gawad-specials/
END:VEVENT
BEGIN:VEVENT
DTSTART;TZID=UTC:20240917T150000
DTEND;TZID=UTC:20240917T150000
DTSTAMP:20260420T071902
CREATED:20240913T022335Z
LAST-MODIFIED:20241107T022726Z
UID:13791-1726585200-1726585200@depedaurora.ph
SUMMARY:. 2024  NOTICE OF MEETING ON CAMPUS JOURNALISM PROGRAMS AND ACTIVITIES FOR SY 2024-2025
DESCRIPTION:DIVISION MEMORANDUM NO. 250\, s. 2024
URL:https://depedaurora.ph/aurora/event/2024-notice-of-meeting-on-campus-journalism-programs-and-activities-for-sy-2024-2025/
END:VEVENT
BEGIN:VEVENT
DTSTART;TZID=UTC:20240918T080000
DTEND;TZID=UTC:20240928T170000
DTSTAMP:20260420T071902
CREATED:20240812T052422Z
LAST-MODIFIED:20241106T060400Z
UID:13759-1726646400-1727542800@depedaurora.ph
SUMMARY:WORKSHOP ON THE DEVELOPMENT OF SHORT STORIES AND ENHANCEMENT OF VIDEO LESSONS ALIGNED WITH THE MATATAG CURRICULUM FOR KINDERGARTEN LEARNERS
DESCRIPTION:DIVISION MEMORANDUM NO. 217\, s. 2024
URL:https://depedaurora.ph/aurora/event/workshop-on-the-development-of-short-stories-and-enhancement-of-video-lessons-aligned-with-the-matatag-curriculum-for-kindergarten-learners/
END:VEVENT
BEGIN:VEVENT
DTSTART;TZID=UTC:20240919T100000
DTEND;TZID=UTC:20240919T170000
DTSTAMP:20260420T071902
CREATED:20240918T022734Z
LAST-MODIFIED:20241107T025504Z
UID:13793-1726740000-1726765200@depedaurora.ph
SUMMARY:NOTICE OF CONSULTATION MEETING
DESCRIPTION:DIVISION MEMORANDUM NO. 261\, s. 2024
URL:https://depedaurora.ph/aurora/event/notice-of-consultation-meeting/
END:VEVENT
BEGIN:VEVENT
DTSTART;TZID=UTC:20240927T080000
DTEND;TZID=UTC:20240929T170000
DTSTAMP:20260420T071902
CREATED:20240807T023615Z
LAST-MODIFIED:20241106T032321Z
UID:13745-1727424000-1727629200@depedaurora.ph
SUMMARY:DIVISION LEADERSHIP TRAINING FOR YOUTH EMPOWERMENT 2024
DESCRIPTION:  \nDIVISION MEMORANDUM NO. 206\, s. 2024 \n 
URL:https://depedaurora.ph/aurora/event/division-leadership-training-for-youth-empowerment-2024/
END:VEVENT
BEGIN:VEVENT
DTSTART;TZID=UTC:20241004T000000
DTEND;TZID=UTC:20241011T000000
DTSTAMP:20260420T071902
CREATED:20240909T021543Z
LAST-MODIFIED:20241107T022245Z
UID:13789-1728000000-1728604800@depedaurora.ph
SUMMARY:PARTICIPANTS TO THE REGION-WIDE TRAINING ON EARLY LANGUAGE LITERACY & NUMERACY (ELLN) FOCUSING ON THE SCIENCE OF READING AND ON DEEPENING CONCEPTUAL UNDERSTANDING OF CONTENT (BATCH 2)
DESCRIPTION:DIVISION MEMORANDUM NO. 247\, s. 2024
URL:https://depedaurora.ph/aurora/event/participants-to-the-region-wide-training-on-early-language-literacy-numeracy-elln-focusing-on-the-science-of-reading-and-on-deepening-conceptual-understanding-of-content-batch-2/
END:VEVENT
BEGIN:VEVENT
DTSTART;TZID=UTC:20241007T000000
DTEND;TZID=UTC:20241031T000000
DTSTAMP:20260420T071902
CREATED:20241008T033436Z
LAST-MODIFIED:20241107T033656Z
UID:13807-1728259200-1730332800@depedaurora.ph
SUMMARY:SCHOOLS DIVISION INDIGENOUS PEOPLES (IP) MONTH CELEBRATIONSCHOOLS DIVISION INDIGENOUS PEOPLES (IP) MONTH CELEBRATION
DESCRIPTION:DIVISION MEMORANDUM NO. 281\, s. 2024
URL:https://depedaurora.ph/aurora/event/schools-division-indigenous-peoples-ip-month-celebrationschools-division-indigenous-peoples-ip-month-celebration/
END:VEVENT
BEGIN:VEVENT
DTSTART;TZID=UTC:20241011T090000
DTEND;TZID=UTC:20241011T090000
DTSTAMP:20260420T071902
CREATED:20241003T030553Z
LAST-MODIFIED:20241107T030714Z
UID:13797-1728637200-1728637200@depedaurora.ph
SUMMARY:NOTICE OF MEETING FOR ALL SENIOR HIGH SCHOOL (SHS) TECHNICAL VOCATIONAL LIVELIHOOD TRACK IUs\, TESDA AND AURORA TVIs
DESCRIPTION:IVISION MEMORANDUM NO. 274\, s. 2024
URL:https://depedaurora.ph/aurora/event/notice-of-meeting-for-all-senior-high-school-shs-technical-vocational-livelihood-track-ius-tesda-and-aurora-tvis/
END:VEVENT
BEGIN:VEVENT
DTSTART;TZID=UTC:20241011T150000
DTEND;TZID=UTC:20241011T150000
DTSTAMP:20260420T071902
CREATED:20241010T081145Z
LAST-MODIFIED:20241108T081535Z
UID:13830-1728658800-1728658800@depedaurora.ph
SUMMARY:NOTICE OF MEETING ON THE PRESENTATION OF SCHOOLS DIVISION TRAINING FOR PRIVATE SCHOOL TEACHERS\, PRACTICE TEACHERS\, AND INSTRUCTORS OF TEACHER EDUCATION INSTITUTIONS ON THE MATATAG CURRICULUM FOR SY 2024-2025
DESCRIPTION:DIVISION MEMORANDUM NO. 289\, s. 2024
URL:https://depedaurora.ph/aurora/event/notice-of-meeting-on-the-presentation-of-schools-division-training-for-private-school-teachers-practice-teachers-and-instructors-of-teacher-education-institutions-on-the-matatag-curriculum-for-sy-20/
END:VEVENT
BEGIN:VEVENT
DTSTART;TZID=UTC:20241012T000000
DTEND;TZID=UTC:20241019T000000
DTSTAMP:20260420T071902
CREATED:20241003T025544Z
LAST-MODIFIED:20241107T030547Z
UID:13795-1728691200-1729296000@depedaurora.ph
SUMMARY:SCHOOLS DIVISION TRAINING – WORKSHOP ON ENHANCING TEACHERS’ CAPACITY TO CONDUCT PHYSICAL FITNESS TESTS
DESCRIPTION:DIVISION MEMORANDUM NO. 273\, s. 2024
URL:https://depedaurora.ph/aurora/event/schools-division-training-workshop-on-enhancing-teachers-capacity-to-conduct-physical-fitness-tests/
END:VEVENT
BEGIN:VEVENT
DTSTART;TZID=UTC:20241014T000000
DTEND;TZID=UTC:20241016T000000
DTSTAMP:20260420T071902
CREATED:20241009T033702Z
LAST-MODIFIED:20241107T035159Z
UID:13809-1728864000-1729036800@depedaurora.ph
SUMMARY:PROVISION OF TECHNICAL ASSISTANCE TO SCHOOLHEADS THROUGH TRAINING-WORKSHOP ON CRAFTING THE 2025-2028 SCHOOL IMPROVEMENT PLAN (SIP) AND THE 2025 ANNUAL IMPLEMENTATION PLAN (AIP) ALIGNED WITH THE MATATAG AGENDA
DESCRIPTION:DIVISION MEMORANDUM NO. 285\, s. 2024
URL:https://depedaurora.ph/aurora/event/provision-of-technical-assistance-to-schoolheads-through-training-workshop-on-crafting-the-2025-2028-school-improvement-plan-sip-and-the-2025-annual-implementation-plan-aip-aligned-with-the-matata/
END:VEVENT
BEGIN:VEVENT
DTSTART;TZID=UTC:20241014T000000
DTEND;TZID=UTC:20241018T000000
DTSTAMP:20260420T071902
CREATED:20241007T032618Z
LAST-MODIFIED:20241107T033431Z
UID:13805-1728864000-1729209600@depedaurora.ph
SUMMARY:SCHOOLS DIVISION TRAINING FOR PRIVATE SCHOOL TEACHERS\, PRACTICE TEACHERS AND INSTRUCTORS OF TEACHER EDUCATION INSTITUTIONS ON THE MATATAG CURRICULUM
DESCRIPTION:DIVISION MEMORANDUM NO. 280\, s. 2024
URL:https://depedaurora.ph/aurora/event/schools-division-training-for-private-school-teachers-practice-teachers-and-instructors-of-teacher-education-institutions-on-the-matatag-curriculum/
END:VEVENT
BEGIN:VEVENT
DTSTART;TZID=UTC:20241014T000000
DTEND;TZID=UTC:20241018T000000
DTSTAMP:20260420T071902
CREATED:20241010T080646Z
LAST-MODIFIED:20241108T081013Z
UID:13827-1728864000-1729209600@depedaurora.ph
SUMMARY:PARTICIPANTS IN THE REGIONAL ORIENTATION CUM WORKSHOP ON INCLUSIVE EDUCATION AND SPED CONTENT AND PEDAGOGY
DESCRIPTION:DIVISION MEMORANDUM NO. 288\, s. 2024
URL:https://depedaurora.ph/aurora/event/participants-in-the-regional-orientation-cum-workshop-on-inclusive-education-and-sped-content-and-pedagogy/
LOCATION:HACIENDA GRACIA RESORT AND HOTEL LUBAO\, PAMPANGA
END:VEVENT
BEGIN:VEVENT
DTSTART;TZID=UTC:20241014T080000
DTEND;TZID=UTC:20241018T000000
DTSTAMP:20260420T071902
CREATED:20241104T062037Z
LAST-MODIFIED:20241227T062731Z
UID:14086-1728892800-1729209600@depedaurora.ph
SUMMARY:PARTICIPANTS IN THE REGIONAL AND NATIONAL ORIENTATION CUM TRAINING-WORKSHOP ON SNED PROGRAM (INCLUSIVE EDUCATION PPAs AND CONTENT AND PEDAGOGY)
DESCRIPTION:DIVISION MEMORANDUM NO. 313\, s. 2024
URL:https://depedaurora.ph/aurora/event/participants-in-the-regional-and-national-orientation-cum-training-workshop-on-sned-program-inclusive-education-ppas-and-content-and-pedagogy/
END:VEVENT
END:VCALENDAR