BEGIN:VCALENDAR
VERSION:2.0
PRODID:-//DEPED AURORA - ECPv6.15.17.1//NONSGML v1.0//EN
CALSCALE:GREGORIAN
METHOD:PUBLISH
X-WR-CALNAME:DEPED AURORA
X-ORIGINAL-URL:https://depedaurora.ph/aurora
X-WR-CALDESC:Events for DEPED AURORA
REFRESH-INTERVAL;VALUE=DURATION:PT1H
X-Robots-Tag:noindex
X-PUBLISHED-TTL:PT1H
BEGIN:VTIMEZONE
TZID:UTC
BEGIN:STANDARD
TZOFFSETFROM:+0000
TZOFFSETTO:+0000
TZNAME:UTC
DTSTART:20220101T000000
END:STANDARD
END:VTIMEZONE
BEGIN:VEVENT
DTSTART;TZID=UTC:20230307T130000
DTEND;TZID=UTC:20230307T130000
DTSTAMP:20260423T035721
CREATED:20230307T064611Z
LAST-MODIFIED:20230307T064611Z
UID:9208-1678194000-1678194000@depedaurora.ph
SUMMARY:NOTICE OF MEETING FOR MARIA AURORA WEST DISTRICT  PUBLIC ELEMENTARY  AND SECONDARY SCHOOL HEADS
DESCRIPTION:DIVISION MEMORANDUM NO. 045 S. 2023 \nNOTICE OF MEETING FOR MARIA AURORA WEST DISTRICT PUBLIC ELEMENTARY AND SECONDARY SCHOOL HEADS
URL:https://depedaurora.ph/aurora/event/notice-of-meeting-for-maria-aurora-west-district-public-elementary-and-secondary-school-heads-2/
END:VEVENT
BEGIN:VEVENT
DTSTART;TZID=UTC:20230309T130000
DTEND;TZID=UTC:20230309T130000
DTSTAMP:20260423T035721
CREATED:20230307T065155Z
LAST-MODIFIED:20230307T065155Z
UID:9212-1678366800-1678366800@depedaurora.ph
SUMMARY:NOTICE OF MEETING/LAC SESSION FOR DIPACULAO SOUTH DICTRICT PUBLIC ELEMENTARY  AND SECONDARY SCHOOL HEADS
DESCRIPTION:DIVISION MEMORANDUM NO. 046 S. 2023 \nNOTICE OF MEETING/LAC SESSION FOR DIPACULAO SOUTH DICTRICT PUBLIC ELEMENTARY AND SECONDARY SCHOOL HEADS
URL:https://depedaurora.ph/aurora/event/notice-of-meeting-lac-session-for-dipaculao-south-dictrict-public-elementary-and-secondary-school-heads/
END:VEVENT
BEGIN:VEVENT
DTSTART;TZID=UTC:20230310T080000
DTEND;TZID=UTC:20230310T080000
DTSTAMP:20260423T035721
CREATED:20230308T085013Z
LAST-MODIFIED:20230308T085013Z
UID:9401-1678435200-1678435200@depedaurora.ph
SUMMARY:NOTICE OF MEETING FOR DIPACULAO NORTH DISTRICT PUBLIC ELEMENTARY  AND SECONDARY SCHOOL HEADS AND SCHOOL-BASED MANAGEMENT (SBM) COORDINATORS
DESCRIPTION:DIVISION MEMORANDUM NO. 048 S. 2023 \nNOTICE OF MEETING FOR DIPACULAO NORTH DISTRICT PUBLIC ELEMENTARY AND SECONDARY SCHOOL HEADS AND SCHOOL-BASED MANAGEMENT (SBM) COORDINATORS
URL:https://depedaurora.ph/aurora/event/notice-of-meeting-for-dipaculao-north-district-public-elementary-and-secondary-school-heads-and-school-based-management-sbm-coordinators/
END:VEVENT
BEGIN:VEVENT
DTSTART;VALUE=DATE:20230314
DTEND;VALUE=DATE:20230316
DTSTAMP:20260423T035721
CREATED:20230313T071346Z
LAST-MODIFIED:20230313T071346Z
UID:9411-1678752000-1678924799@depedaurora.ph
SUMMARY:DIVISION ORIENTATION ON RESULTS-BASED MANAGEMENT SYSTEM-PHILIPPINE PROFESSIONAL STANDARDS FOR TEACHERS (RPMS-PPST) AND TRAINING-WORKSHOP ON THE USE OF MICROSOFT 365 IN THE CONTEXT OF ALTERNATIVE LEARNING SYSTEM
DESCRIPTION:DIVISION MEMORANDUM NO. 051 S. 2023 \nDIVISION ORIENTATION ON RESULTS-BASED MANAGEMENT SYSTEM-PHILIPPINE PROFESSIONAL STANDARDS FOR TEACHERS (RPMS-PPST) AND TRAINING-WORKSHOP ON THE USE OF MICROSOFT 365 IN THE CONTEXT OF ALTERNATIVE LEARNING SYSTEM
URL:https://depedaurora.ph/aurora/event/division-orientation-on-results-based-management-system-philippine-professional-standards-for-teachers-rpms-ppst-and-training-workshop-on-the-use-of-microsoft-365-in-the-context-of-alternative-learn/
END:VEVENT
BEGIN:VEVENT
DTSTART;VALUE=DATE:20230316
DTEND;VALUE=DATE:20230317
DTSTAMP:20260423T035721
CREATED:20230308T085228Z
LAST-MODIFIED:20230308T085709Z
UID:9403-1678924800-1679011199@depedaurora.ph
SUMMARY:VIRTUAL DIVISION FEDERATION ELECTION OF THE BARKADA KONTRA DROGA (BKD)  AND YOUTH FOR ENVIRONMENT IN SCHOOLS  ORGANIZATION (YES-O) OFFICERS FOR S.Y 2022-2023
DESCRIPTION:DIVISION MEMORANDUM NO. 049 S. 2023 \nVIRTUAL DIVISION FEDERATION ELECTION OF THE BARKADA KONTRA DROGA (BKD) AND YOUTH FOR ENVIRONMENT IN SCHOOLS ORGANIZATION (YES-O) OFFICERS FOR S.Y 2022-2023
URL:https://depedaurora.ph/aurora/event/virtual-division-federation-election-of-the-barkada-kontra-droga-bkd-and-youth-for-environment-in-schools-organization-yes-o-officers-for-s-y-2022-2023/
END:VEVENT
BEGIN:VEVENT
DTSTART;VALUE=DATE:20230316
DTEND;VALUE=DATE:20230317
DTSTAMP:20260423T035721
CREATED:20230308T085349Z
LAST-MODIFIED:20230308T085751Z
UID:9405-1678924800-1679011199@depedaurora.ph
SUMMARY:ONLINE BI-ANNUAL MEETING OF SUPREME PUPIL GOVERNMENT  AND SUPREME STUDENT GOVERNMENT FEDERATION ‘OFFICERS AND ADVISERS
DESCRIPTION:DIVISION MEMORANDUM NO. 050 S. 2023 \nONLINE BI-ANNUAL MEETING OF SUPREME PUPIL GOVERNMENT  AND SUPREME STUDENT GOVERNMENT FEDERATION ‘OFFICERS AND ADVISERS
URL:https://depedaurora.ph/aurora/event/online-bi-annual-meeting-of-supreme-pupil-government-and-supreme-student-government-federation-officers-and-advisers/
END:VEVENT
BEGIN:VEVENT
DTSTART;TZID=UTC:20230318T080000
DTEND;TZID=UTC:20230318T080000
DTSTAMP:20260423T035721
CREATED:20230301T123740Z
LAST-MODIFIED:20230306T012519Z
UID:9142-1679126400-1679126400@depedaurora.ph
SUMMARY:2023 BSP PROVINCIAL KID/KABSAYAHAN
DESCRIPTION:DIVISION MEMORANDUM NO. 040 S. 2023 \n2023 BSP PROVINCIAL KID/KABSAYAHAN1
URL:https://depedaurora.ph/aurora/event/2023-bsp-provincial-kid-kabsayahan/
END:VEVENT
BEGIN:VEVENT
DTSTART;TZID=UTC:20230325T080000
DTEND;TZID=UTC:20230325T080000
DTSTAMP:20260423T035721
CREATED:20230301T123728Z
LAST-MODIFIED:20230306T012629Z
UID:9144-1679731200-1679731200@depedaurora.ph
SUMMARY:2023 BSP PROVINCIAL KID/KABSAYAHAN
DESCRIPTION:DIVISION MEMORANDUM NO. 040 S. 2023 \n2023 BSP PROVINCIAL KID/KABSAYAHAN
URL:https://depedaurora.ph/aurora/event/2023-bsp-provincial-kid-kabsayahan-2/
END:VEVENT
BEGIN:VEVENT
DTSTART;TZID=UTC:20230329T090000
DTEND;TZID=UTC:20230329T090000
DTSTAMP:20260423T035721
CREATED:20230328T081937Z
LAST-MODIFIED:20230328T081937Z
UID:9575-1680080400-1680080400@depedaurora.ph
SUMMARY:NOTICE OF MEETING OF KITCHEN CABINET FOR CLRAA TRAINING  AND CLRAA MEET  2023
DESCRIPTION: DIVISION MEMORANDUM NO. 057 S. 2023 \nNOTICE OF MEETING OF KITCHEN CABINET FOR CLRAA TRAINING  AND CLRAA MEET  2023
URL:https://depedaurora.ph/aurora/event/notice-of-meeting-of-kitchen-cabinet-for-clraa-training-and-clraa-meet-2023/
END:VEVENT
BEGIN:VEVENT
DTSTART;TZID=UTC:20230329T090000
DTEND;TZID=UTC:20230330T000000
DTSTAMP:20260423T035721
CREATED:20230328T084147Z
LAST-MODIFIED:20230328T084147Z
UID:9580-1680080400-1680134400@depedaurora.ph
SUMMARY:NOTICE OF MEETING FOR THE MEMBERS OF THE SCREENING COMMITTEE
DESCRIPTION:DIVISION MEMORANDUM NO. 058 S. 202 \nNOTICE OF MEETING FOR THE MEMBERS OF THE SCREENING COMMITTEE
URL:https://depedaurora.ph/aurora/event/notice-of-meeting-for-the-members-of-the-screening-committee/
END:VEVENT
BEGIN:VEVENT
DTSTART;VALUE=DATE:20230330
DTEND;VALUE=DATE:20230402
DTSTAMP:20260423T035721
CREATED:20230328T081531Z
LAST-MODIFIED:20230328T081531Z
UID:9573-1680134400-1680393599@depedaurora.ph
SUMMARY:WORKSHOP SA PAGSASANAY SA GANAP NA PAGBUBUO NG BANGHAY-ARALIN SA PANIMULANG  PAGBASA GAMIT  ANG FOUR -PRONGED APPROACH (PROJECT E-SIKAT IN READING)
DESCRIPTION: DIVISION MEMORANDUM NO. 056 S. 2023 \nWORKSHOP SA PAGSASANAY SA GANAP NA PAGBUBUO NG BANGHAY-ARALIN SA PANIMULANG  PAGBASA GAMIT  ANG FOUR -PRONGED APPROACH (PROJECT E-SIKAT IN READING)
URL:https://depedaurora.ph/aurora/event/workshop-sa-pagsasanay-sa-ganap-na-pagbubuo-ng-banghay-aralin-sa-panimulang-pagbasa-gamit-ang-four-pronged-approach-project-e-sikat-in-reading/
END:VEVENT
BEGIN:VEVENT
DTSTART;TZID=UTC:20230403T080000
DTEND;TZID=UTC:20230404T170000
DTSTAMP:20260423T035721
CREATED:20230328T034827Z
LAST-MODIFIED:20230328T034827Z
UID:9561-1680508800-1680627600@depedaurora.ph
SUMMARY:NOTICE OF MEETING FOR ALTERNATIVE LEARNING SYSTEM IMPLEMENTERS
DESCRIPTION:DIVISION MEMORANDUM NO. 054 S. 2023 \nNOTICE OF MEETING FOR ALTERNATIVE LEARNING SYSTEM IMPLEMENTERS
URL:https://depedaurora.ph/aurora/event/notice-of-meeting-for-alternative-learning-system-implementers-4/
END:VEVENT
BEGIN:VEVENT
DTSTART;TZID=UTC:20230403T080000
DTEND;TZID=UTC:20230405T170000
DTSTAMP:20260423T035721
CREATED:20230302T164849Z
LAST-MODIFIED:20230306T011957Z
UID:9139-1680508800-1680714000@depedaurora.ph
SUMMARY:SEMINAR-WORKSHOP ON THE PREPARATION\, VALIDATION AND CONSOLIDATION OF FY 2023 FIRST  QUARTER FINANCIAL REPORTS
DESCRIPTION:DIVISION MEMORANDUM NO. 043 S. 2023 \nSEMINAR-WORKSHOP ON THE PREPARATION\, VALIDATION AND CONSOLIDATION OF FY 2023 FIRST  QUARTER FINANCIAL REPORTS
URL:https://depedaurora.ph/aurora/event/seminar-workshop-on-the-preparation-validation-and-consolidation-of-fy-2023-first-quarter-financial-reports/
END:VEVENT
BEGIN:VEVENT
DTSTART;VALUE=DATE:20230410
DTEND;VALUE=DATE:20230411
DTSTAMP:20260423T035721
CREATED:20230413T090744Z
LAST-MODIFIED:20230413T090744Z
UID:9616-1681084800-1681171199@depedaurora.ph
SUMMARY:ADDENDUM TO DIVISION MEMORANDUM NO. 63\, S. 2023 RE:  TRAINING AND FINAL SELECTION OF ATHLETES FOR THE 2023 CENTRAL LUZON REGIONAL ATHLETIC ASSOCIATION (CLRAA) MEET
DESCRIPTION:DIVISION MEMORANDUM NO. 065 S. 2023 \nADDENDUM TO DIVISION MEMORANDUM NO. 63\, S. 2023 RE:  TRAINING AND FINAL SELECTION OF ATHLETES FOR THE 2023 CENTRAL LUZON REGIONAL ATHLETIC ASSOCIATION (CLRAA) MEET
URL:https://depedaurora.ph/aurora/event/addendum-to-division-memorandum-no-63-s-2023-re-training-and-final-selection-of-athletes-for-the-2023-central-luzon-regional-athletic-association-clraa-meet/
END:VEVENT
BEGIN:VEVENT
DTSTART;TZID=UTC:20230410T080000
DTEND;TZID=UTC:20230410T080000
DTSTAMP:20260423T035721
CREATED:20230413T090915Z
LAST-MODIFIED:20230413T090915Z
UID:9620-1681113600-1681113600@depedaurora.ph
SUMMARY:TRAINING AND FINAL SELECTION OF ATHLETES FOR THE 2023 CENTRAL  LUZON REGIONAL ATHLETIC ASSOCIATION (CLRAA) MEET
DESCRIPTION:DIVISION MEMORANDUM NO. 063 S. 2023 \nTRAINING AND FINAL SELECTION OF ATHLETES FOR THE 2023 CENTRAL  LUZON REGIONAL ATHLETIC ASSOCIATION (CLRAA) MEET
URL:https://depedaurora.ph/aurora/event/training-and-final-selection-of-athletes-for-the-2023-central-luzon-regional-athletic-association-clraa-meet/
END:VEVENT
BEGIN:VEVENT
DTSTART;TZID=UTC:20230411T080000
DTEND;TZID=UTC:20230411T080000
DTSTAMP:20260423T035721
CREATED:20230413T090524Z
LAST-MODIFIED:20230413T090524Z
UID:9612-1681200000-1681200000@depedaurora.ph
SUMMARY:NOTICE OF MEETING  REGULAR MEETING OF THE SDO  UNIT HEADS
DESCRIPTION:OFFICE MEMORANDUM NO. 011\, S. 2023 \nNOTICE OF MEETING \nREGULAR MEETING OF THE SDO  UNIT HEADS
URL:https://depedaurora.ph/aurora/event/notice-of-meeting-regular-meeting-of-the-sdo-unit-heads/
END:VEVENT
BEGIN:VEVENT
DTSTART;TZID=UTC:20230411T083000
DTEND;TZID=UTC:20230411T083000
DTSTAMP:20260423T035721
CREATED:20230413T090831Z
LAST-MODIFIED:20230413T090831Z
UID:9618-1681201800-1681201800@depedaurora.ph
SUMMARY:VIRTUAL ORIENTATION ON THE GUIDELINES OF JOINT DELIVERY VOUCHER PROGRAM  FOR SENIOR HIGH SCHOOL TECHNICAL  VOCATIONAL LIVELIHOOD SPECIALIZATION (JDVP-SHS TVL) FOR SCHOOL YEAR 2022-2023
DESCRIPTION:DIVISION MEMORANDUM NO. 064 S. 2023 \nVIRTUAL ORIENTATION ON THE GUIDELINES OF JOINT DELIVERY VOUCHER PROGRAM  FOR SENIOR HIGH SCHOOL TECHNICAL  VOCATIONAL LIVELIHOOD SPECIALIZATION (JDVP-SHS TVL) FOR SCHOOL YEAR 2022-2023
URL:https://depedaurora.ph/aurora/event/virtual-orientation-on-the-guidelines-of-joint-delivery-voucher-program-for-senior-high-school-technical-vocational-livelihood-specialization-jdvp-shs-tvl-for-school-year-2022-2023/
END:VEVENT
BEGIN:VEVENT
DTSTART;TZID=UTC:20230420T080000
DTEND;TZID=UTC:20230421T170000
DTSTAMP:20260423T035721
CREATED:20230418T064602Z
LAST-MODIFIED:20230418T064602Z
UID:9636-1681977600-1682096400@depedaurora.ph
SUMMARY:SEMINAR WORKSHOP ON THE USE OF NEW PROPERTY FORMS AND PREPARATION OF SCHOOL INVENTORY
DESCRIPTION:OFFICE MEMORANDUM NO. 013\, S. 2023 \nSEMINAR WORKSHOP ON THE USE OF NEW PROPERTY FORMS AND PREPARATION OF SCHOOL INVENTORY
URL:https://depedaurora.ph/aurora/event/seminar-workshop-on-the-use-of-new-property-forms-and-preparation-of-school-inventory/
END:VEVENT
BEGIN:VEVENT
DTSTART;VALUE=DATE:20230504
DTEND;VALUE=DATE:20230506
DTSTAMP:20260423T035721
CREATED:20230428T015159Z
LAST-MODIFIED:20230428T015159Z
UID:9683-1683158400-1683331199@depedaurora.ph
SUMMARY:MONITORING AND TA PROVISION ON WORK IMMERSION IMPLEMENTATION OF SENIOR HIGH SCHOOL (SHS) IMPLEMENTERS IN PRIVATE AND PUBLIC SHS
DESCRIPTION:DIVISION MEMORANDUM NO. 079 S. 2023 \nMONITORING AND TA PROVISION ON WORK IMMERSION IMPLEMENTATION OF SENIOR HIGH SCHOOL (SHS) IMPLEMENTERS IN PRIVATE AND PUBLIC SHS \n\n  \n 
URL:https://depedaurora.ph/aurora/event/monitoring-and-ta-provision-on-work-immersion-implementation-of-senior-high-school-shs-implementers-in-private-and-public-shs/
END:VEVENT
BEGIN:VEVENT
DTSTART;VALUE=DATE:20230506
DTEND;VALUE=DATE:20230508
DTSTAMP:20260423T035721
CREATED:20230503T054610Z
LAST-MODIFIED:20230503T054610Z
UID:9702-1683331200-1683503999@depedaurora.ph
SUMMARY:TRAINING-WORKSHOP ON THE APPLICATION OF OBSERVED LEARNING OUTCOMES (SOLO) AS AN INTERVENTION TO ADDRESS LEARNING GAPS IN ARALING PANLIPUNAN
DESCRIPTION:  \nDIVISION MEMORANDUM NO. 081 S. 2023 \nTRAINING-WORKSHOP ON THE APPLICATION OF OBSERVED LEARNING OUTCOMES (SOLO) AS AN INTERVENTION TO ADDRESS LEARNING GAPS IN ARALING PANLIPUNAN \n\n 
URL:https://depedaurora.ph/aurora/event/training-workshop-on-the-application-of-observed-learning-outcomes-solo-as-an-intervention-to-address-learning-gaps-in-araling-panlipunan/
END:VEVENT
BEGIN:VEVENT
DTSTART;TZID=UTC:20230506T083000
DTEND;TZID=UTC:20230506T170000
DTSTAMP:20260423T035721
CREATED:20230426T080137Z
LAST-MODIFIED:20230426T082042Z
UID:9663-1683361800-1683392400@depedaurora.ph
SUMMARY:DIGITIZATION AND QUALITY ASSURANCE OF THE DEVELOPED UNIFIED EPP ASSESSMENT TOOL FOR KEY STAGE 2
DESCRIPTION:DIVISION MEMORANDUM NO. 076 S. 2023 \nDIGITIZATION AND QUALITY ASSURANCE OF THE DEVELOPED UNIFIED EPP ASSESSMENT TOOL FOR KEY STAGE 2
URL:https://depedaurora.ph/aurora/event/division-memorandum-no-076-s-2023/
END:VEVENT
BEGIN:VEVENT
DTSTART;VALUE=DATE:20230508
DTEND;VALUE=DATE:20230513
DTSTAMP:20260423T035721
CREATED:20230503T061959Z
LAST-MODIFIED:20230503T061959Z
UID:9718-1683504000-1683935999@depedaurora.ph
SUMMARY:DIVISION FINAL ASSESSMENT AND PRESENTATION PORTFOLIO ASSESMENT OF ALS SENIOR HIGH SCHOOL COMPLETERS
DESCRIPTION:DIVISION MEMORANDUM NO. 083 \nDIVISION FINAL ASSESSMENT AND PRESENTATION PORTFOLIO ASSESMENT OF ALS SENIOR HIGH SCHOOL COMPLETERS
URL:https://depedaurora.ph/aurora/event/division-final-assessment-and-presentation-portfolio-assesment-of-als-senior-high-school-completers/
END:VEVENT
BEGIN:VEVENT
DTSTART;VALUE=DATE:20230511
DTEND;VALUE=DATE:20230513
DTSTAMP:20260423T035721
CREATED:20230428T015815Z
LAST-MODIFIED:20230428T015815Z
UID:9685-1683763200-1683935999@depedaurora.ph
SUMMARY:MONITORING AND TA PROVISION ON WORK IMMERSION IMPLEMENTATION OF SENIOR HIGH SCHOOL (SHS) IMPLEMENTERS IN PRIVATE AND PUBLIC SHS
DESCRIPTION:DIVISION MEMORANDUM NO. 079 S. 2023 \nMONITORING AND TA PROVISION ON WORK IMMERSION IMPLEMENTATION OF SENIOR HIGH SCHOOL (SHS) IMPLEMENTERS IN PRIVATE AND PUBLIC SHS
URL:https://depedaurora.ph/aurora/event/monitoring-and-ta-provision-on-work-immersion-implementation-of-senior-high-school-shs-implementers-in-private-and-public-shs-2/
END:VEVENT
BEGIN:VEVENT
DTSTART;VALUE=DATE:20230513
DTEND;VALUE=DATE:20230515
DTSTAMP:20260423T035721
CREATED:20230505T043153Z
LAST-MODIFIED:20230505T043153Z
UID:9729-1683936000-1684108799@depedaurora.ph
SUMMARY:WORKSHOP SA PAGSASANAY SA GANAP NA PAGBUBUO NG BANGHAY-ARALIN SA PANIMULANG PAGBASA GAMIT ANG FOUR-PRONGED APPROACH (PROJECT E-SIKAT IN READING) – IKALAWANG YUGTO
DESCRIPTION:PAGSANGAY NA MEMORANDUM BILANG. 085 S. 2023 \nWORKSHOP SA PAGSASANAY SA GANAP NA PAGBUBUO NG BANGHAY-ARALIN SA PANIMULANG PAGBASA GAMIT ANG FOUR-PRONGED APPROACH (PROJECT E-SIKAT IN READING) – IKALAWANG YUGTO
URL:https://depedaurora.ph/aurora/event/workshop-sa-pagsasanay-sa-ganap-na-pagbubuo-ng-banghay-aralin-sa-panimulang-pagbasa-gamit-ang-four-pronged-approach-project-e-sikat-in-reading-ikalawang-yugto/
END:VEVENT
BEGIN:VEVENT
DTSTART;TZID=UTC:20230513T083000
DTEND;TZID=UTC:20230513T170000
DTSTAMP:20260423T035721
CREATED:20230426T081210Z
LAST-MODIFIED:20230426T082143Z
UID:9666-1683966600-1683997200@depedaurora.ph
SUMMARY:DIGITIZATION AND QUALITY ASSURANCE OF THE DEVELOPED UNIFIED EPP ASSESSMENT TOOL FOR KEY STAGE 2
DESCRIPTION:DIVISION MEMORANDUM NO. 076 S. 2023 \nDIGITIZATION AND QUALITY ASSURANCE OF THE DEVELOPED UNIFIED EPP ASSESSMENT TOOL FOR KEY STAGE 2
URL:https://depedaurora.ph/aurora/event/division-memorandum-no-076-s-2023-2/
END:VEVENT
BEGIN:VEVENT
DTSTART;VALUE=DATE:20230516
DTEND;VALUE=DATE:20230518
DTSTAMP:20260423T035721
CREATED:20230503T060408Z
LAST-MODIFIED:20230503T060408Z
UID:9709-1684195200-1684367999@depedaurora.ph
SUMMARY:TRAINING OF SCHOOL LEADERS ON THE IMPLEMENTATION OF HARMONIZED GENDER AND DEVELOPMENT GUIDELINES IN THE ATTRIBUTION OF PROGRAMS AND PROJECTS TO GENDER AND DEVELOPMENT (GAD)
DESCRIPTION:DIVISION MEMORANDUM NO. 082 S. 2023 \nTRAINING OF SCHOOL LEADERS ON THE IMPLEMENTATION OF HARMONIZED GENDER AND DEVELOPMENT GUIDELINES IN THE ATTRIBUTION OF PROGRAMS AND PROJECTS TO GENDER AND DEVELOPMENT (GAD)
URL:https://depedaurora.ph/aurora/event/training-of-school-leaders-on-the-implementation-of-harmonized-gender-and-development-guidelines-in-the-attribution-of-programs-and-projects-to-gender-and-development-gad/
END:VEVENT
BEGIN:VEVENT
DTSTART;VALUE=DATE:20230517
DTEND;VALUE=DATE:20230519
DTSTAMP:20260423T035721
CREATED:20230413T090633Z
LAST-MODIFIED:20230413T090633Z
UID:9614-1684281600-1684454399@depedaurora.ph
SUMMARY:WORKSHOP ON THE REFINEMENT AND ALIGNMENT  OF 2023 SDO OPERATIONAL PLANS TO MATATAG AGENDA CUM CATCH-UP  PLANNING
DESCRIPTION:OFFICE MEMORANDUM NO. 012\, S. 2023 \nWORKSHOP ON THE REFINEMENT AND ALIGNMENT  OF 2023 SDO OPERATIONAL PLANS TO MATATAG AGENDA CUM CATCH-UP  PLANNING
URL:https://depedaurora.ph/aurora/event/workshop-on-the-refinement-and-alignment-of-2023-sdo-operational-plans-to-matatag-agenda-cum-catch-up-planning/
END:VEVENT
BEGIN:VEVENT
DTSTART;TZID=UTC:20230517T083000
DTEND;TZID=UTC:20230517T170000
DTSTAMP:20260423T035721
CREATED:20230516T071257Z
LAST-MODIFIED:20230516T071257Z
UID:9757-1684312200-1684342800@depedaurora.ph
SUMMARY:NOTICE OF MEETING ON 2023 DIVISION TECHNOLYMPICS
DESCRIPTION:NOTICE OF MEETING ON 2023 DIVISION TECHNOLYMPICS \nNOTICE OF MEETING ON 2023 DIVISION TECHNOLYMPICS
URL:https://depedaurora.ph/aurora/event/notice-of-meeting-on-2023-division-technolympics/
END:VEVENT
BEGIN:VEVENT
DTSTART;VALUE=DATE:20230518
DTEND;VALUE=DATE:20230520
DTSTAMP:20260423T035721
CREATED:20230428T020711Z
LAST-MODIFIED:20230428T020711Z
UID:9687-1684368000-1684540799@depedaurora.ph
SUMMARY:MONITORING AND TA PROVISION ON WORK IMMERSION IMPLEMENTATION OF SENIOR HIGH SCHOOL (SHS) IMPLEMENTERS IN PRIVATE AND PUBLIC SHS
DESCRIPTION:DIVISION MEMORANDUM NO. 079 S. 2023 \nMONITORING AND TA PROVISION ON WORK IMMERSION IMPLEMENTATION OF SENIOR HIGH SCHOOL (SHS) IMPLEMENTERS IN PRIVATE AND PUBLIC SHS
URL:https://depedaurora.ph/aurora/event/monitoring-and-ta-provision-on-work-immersion-implementation-of-senior-high-school-shs-implementers-in-private-and-public-shs-3/
END:VEVENT
BEGIN:VEVENT
DTSTART;VALUE=DATE:20230518
DTEND;VALUE=DATE:20230520
DTSTAMP:20260423T035721
CREATED:20230503T060646Z
LAST-MODIFIED:20230503T060646Z
UID:9711-1684368000-1684540799@depedaurora.ph
SUMMARY:TRAINING OF SCHOOL LEADERS ON THE IMPLEMENTATION OF HARMONIZED GENDER AND DEVELOPMENT GUIDELINES IN THE ATTRIBUTION OF PROGRAMS AND PROJECTS TO GENDER AND DEVELOPMENT (GAD)
DESCRIPTION:DIVISION MEMORANDUM NO. 082 S. 2023 \nTRAINING OF SCHOOL LEADERS ON THE IMPLEMENTATION OF HARMONIZED GENDER AND DEVELOPMENT GUIDELINES IN THE ATTRIBUTION OF PROGRAMS AND PROJECTS TO GENDER AND DEVELOPMENT (GAD)
URL:https://depedaurora.ph/aurora/event/training-of-school-leaders-on-the-implementation-of-harmonized-gender-and-development-guidelines-in-the-attribution-of-programs-and-projects-to-gender-and-development-gad-2/
END:VEVENT
END:VCALENDAR