BEGIN:VCALENDAR
VERSION:2.0
PRODID:-//DEPED AURORA - ECPv6.15.17.1//NONSGML v1.0//EN
CALSCALE:GREGORIAN
METHOD:PUBLISH
X-WR-CALNAME:DEPED AURORA
X-ORIGINAL-URL:https://depedaurora.ph/aurora
X-WR-CALDESC:Events for DEPED AURORA
REFRESH-INTERVAL;VALUE=DURATION:PT1H
X-Robots-Tag:noindex
X-PUBLISHED-TTL:PT1H
BEGIN:VTIMEZONE
TZID:UTC
BEGIN:STANDARD
TZOFFSETFROM:+0000
TZOFFSETTO:+0000
TZNAME:UTC
DTSTART:20220101T000000
END:STANDARD
END:VTIMEZONE
BEGIN:VEVENT
DTSTART;TZID=UTC:20230711T080000
DTEND;TZID=UTC:20230711T170000
DTSTAMP:20260422T221708
CREATED:20230704T062211Z
LAST-MODIFIED:20230704T062211Z
UID:10291-1689062400-1689094800@depedaurora.ph
SUMMARY:REGULAR STAFF MEETING
DESCRIPTION:
URL:https://depedaurora.ph/aurora/event/regular-staff-meeting/
END:VEVENT
BEGIN:VEVENT
DTSTART;TZID=UTC:20230710T150000
DTEND;TZID=UTC:20230710T170000
DTSTAMP:20260422T221708
CREATED:20230704T062102Z
LAST-MODIFIED:20230704T062102Z
UID:10289-1689001200-1689008400@depedaurora.ph
SUMMARY:5S MEETING
DESCRIPTION:5S MEETING
URL:https://depedaurora.ph/aurora/event/5s-meeting/
END:VEVENT
BEGIN:VEVENT
DTSTART;TZID=UTC:20230710T090000
DTEND;TZID=UTC:20230710T150000
DTSTAMP:20260422T221708
CREATED:20230704T062002Z
LAST-MODIFIED:20230704T062002Z
UID:10287-1688979600-1689001200@depedaurora.ph
SUMMARY:PIR CONSOLIDATION MEETING
DESCRIPTION:
URL:https://depedaurora.ph/aurora/event/pir-consolidation-meeting/
END:VEVENT
BEGIN:VEVENT
DTSTART;TZID=UTC:20230708T080000
DTEND;TZID=UTC:20230708T170000
DTSTAMP:20260422T221708
CREATED:20230525T080951Z
LAST-MODIFIED:20230525T080951Z
UID:9965-1688803200-1688835600@depedaurora.ph
SUMMARY:ONLINE SEMINAR-WORKSHOP ON TIP COURSE 5 AND 6
DESCRIPTION:DIVISION ORIENTATION ON THE IMPLEMENTATION OF THE INDUCTION PROGRAM FOR BEGINNING TEACHERS (IPBT) TO NEWLY-HIRED TEACHERS \nPROPONENT: LAURENSA L. CABANAYAN SEPS-HRD/PETER G. CALISAAN\, EPSII-HRD \nONLINE SEMINAR-WORKSHOP ON TIP COURSE 5 AND 6 \nJULY 8\, 2023
URL:https://depedaurora.ph/aurora/event/online-seminar-workshop-on-tip-course-5-and-6/
END:VEVENT
BEGIN:VEVENT
DTSTART;TZID=UTC:20230706T080000
DTEND;TZID=UTC:20230707T170000
DTSTAMP:20260422T221708
CREATED:20230704T024053Z
LAST-MODIFIED:20230704T024316Z
UID:10281-1688630400-1688749200@depedaurora.ph
SUMMARY:CLASSROOM OBSERVATION/DEMONSTRATION TEACHING AND OPEN RANKING
DESCRIPTION:CLUSTER 1: BALER\, MARIA AURORA\, DIPACULAO AND SAN LUIS DISTRICT \nVENUE: (ELEMENTARY) MARIA AURORA CS \nJHS AND SHS: ECRMNHS \nCLUSTER 2: DINALUNGAN\, CASIGURAN AND DILASAG DISTRICT \nVENUE: CASIGURAN CS \nJHS AND SHS: LUAL NHS \nCLUSTER 3: DINGALAN DISTRICT \nVENUE: DINGALAN CS \nJHS AND SHS: DINGALAN NHS
URL:https://depedaurora.ph/aurora/event/classroom-observation-demonstration-teaching-and-open-ranking/
END:VEVENT
BEGIN:VEVENT
DTSTART;TZID=UTC:20230706T080000
DTEND;TZID=UTC:20230706T170000
DTSTAMP:20260422T221708
CREATED:20230706T010222Z
LAST-MODIFIED:20230706T010222Z
UID:10313-1688630400-1688662800@depedaurora.ph
SUMMARY:SECOND QUARTER ONLINE CONSULTATIVE CONFERENCE OF REGIONAL AND SCHOOL DIVISION ACCOUNTANTS AND BUDGET OFFICERS
DESCRIPTION:
URL:https://depedaurora.ph/aurora/event/second-quarter-online-consultative-conference-of-regional-and-school-division-accountants-and-budget-officers/
END:VEVENT
BEGIN:VEVENT
DTSTART;TZID=UTC:20230705T080000
DTEND;TZID=UTC:20230705T170000
DTSTAMP:20260422T221708
CREATED:20230704T023902Z
LAST-MODIFIED:20230704T023902Z
UID:10279-1688544000-1688576400@depedaurora.ph
SUMMARY:SUBMISSION\, SCREENING AND EVALUATION OF DOCUMENTS FOR ELEMENTARY\, JHS AND SHS
DESCRIPTION:SUBMISSION\, SCREENING AND EVALUATION OF DOCUMENTS FOR ELEMENTARY\, JHS AND SHS \nCLUSTER 1: BALER\, MARIA AURORA\, DIPACULAO AND SAN LUIS DISTRICT \nVENUE: MARIA AURORA CS \nCLUSTER 2: DINALUNGAN\, CASIGURAN AND DILASAG DISTRICT \nVENUE: CASIGURAN CS \nCLUSTER 3: DINGALAN DISTRICT \nVENUE: DINGALAN CS
URL:https://depedaurora.ph/aurora/event/submission-screening-and-evaluation-of-documents-for-elementary-jhs-and-shs/
END:VEVENT
BEGIN:VEVENT
DTSTART;TZID=UTC:20230704T080000
DTEND;TZID=UTC:20230707T170000
DTSTAMP:20260422T221708
CREATED:20230620T075433Z
LAST-MODIFIED:20230620T075433Z
UID:10207-1688457600-1688749200@depedaurora.ph
SUMMARY:SEMINAR WORKSHOP ON THE PREPARATION VALIDATION AND CONSOLIDATION OF MID YEAR FINANCIAL REPORTS FY.2023
DESCRIPTION:SEMINAR WORKSHOP ON THE PREPARATION VALIDATION AND CONSOLIDATION OF MID YEAR FINANCIAL REPORTS FY.2023 \nPROPONENT: MICHELLE M. VALENZUELA\, ALPHA JOY T. RAZON AND REYNALDO C. DUMPIT
URL:https://depedaurora.ph/aurora/event/seminar-workshop-on-the-preparation-validation-and-consolidation-of-mid-year-financial-reports-fy-2023/
END:VEVENT
BEGIN:VEVENT
DTSTART;TZID=UTC:20230629T080000
DTEND;TZID=UTC:20230629T170000
DTSTAMP:20260422T221708
CREATED:20230619T032317Z
LAST-MODIFIED:20230619T032317Z
UID:10185-1688025600-1688058000@depedaurora.ph
SUMMARY:4TH DIVISION MANAGEMENT COMMITTEE MEETING ( MANCOM )
DESCRIPTION:4TH DIVISION MANAGEMENT COMMITTEE MEETING ( MANCOM )
URL:https://depedaurora.ph/aurora/event/4th-division-management-committee-meeting-mancom/
END:VEVENT
BEGIN:VEVENT
DTSTART;TZID=UTC:20230626T080000
DTEND;TZID=UTC:20230626T170000
DTSTAMP:20260422T221708
CREATED:20230619T031659Z
LAST-MODIFIED:20230619T031659Z
UID:10183-1687766400-1687798800@depedaurora.ph
SUMMARY:LSB MEETING
DESCRIPTION:LSB MEETING
URL:https://depedaurora.ph/aurora/event/lsb-meeting/
END:VEVENT
BEGIN:VEVENT
DTSTART;TZID=UTC:20230624T080000
DTEND;TZID=UTC:20230624T170000
DTSTAMP:20260422T221708
CREATED:20230530T033705Z
LAST-MODIFIED:20230530T033705Z
UID:9996-1687593600-1687626000@depedaurora.ph
SUMMARY:VIRTUAL DIVISION TRAINING ON BARKADA KONTRA DROGA
DESCRIPTION:DIVISION MEMORANDUM NO. 103 S. 2023 \nVIRTUAL DIVISION TRAINING ON BARKADA KONTRA DROGA
URL:https://depedaurora.ph/aurora/event/virtual-division-training-on-barkada-kontra-droga/
END:VEVENT
BEGIN:VEVENT
DTSTART;TZID=UTC:20230624T080000
DTEND;TZID=UTC:20230624T170000
DTSTAMP:20260422T221708
CREATED:20230525T080910Z
LAST-MODIFIED:20230525T080910Z
UID:9963-1687593600-1687626000@depedaurora.ph
SUMMARY:ONLINE SEMINAR-WORKSHOP ON TIP COURSE 3 AND 4
DESCRIPTION:DIVISION ORIENTATION ON THE IMPLEMENTATION OF THE INDUCTION PROGRAM FOR BEGINNING TEACHERS (IPBT) TO NEWLY-HIRED TEACHERS \nPROPONENT: LAURENSA L. CABANAYAN SEPS-HRD/PETER G. CALISAAN\, EPSII-HRD \nONLINE SEMINAR-WORKSHOP ON TIP COURSE 3 AND 4 \nJUNE 24\, 2023
URL:https://depedaurora.ph/aurora/event/online-seminar-workshop-on-tip-course-3-and-4/
END:VEVENT
BEGIN:VEVENT
DTSTART;TZID=UTC:20230624T080000
DTEND;TZID=UTC:20230624T170000
DTSTAMP:20260422T221708
CREATED:20230525T080159Z
LAST-MODIFIED:20230525T080159Z
UID:9951-1687593600-1687626000@depedaurora.ph
SUMMARY:VIRTUAL DIVISION TRAINING ON BARKADA KONTRA DROGA (BKD)
DESCRIPTION:TITLE:VIRTUAL DIVISION TRAINING ON BARKADA KONTRA DROGA (BKD) \nPROPONENT: JUVY LYN C. MIRANDA/REYNAN L. LAPITAN \nDATE: JUNE 24\, 2023 \nVENUE: SDO AURORA
URL:https://depedaurora.ph/aurora/event/virtual-division-training-on-barkada-kontra-droga-bkd/
END:VEVENT
BEGIN:VEVENT
DTSTART;TZID=UTC:20230620T080000
DTEND;TZID=UTC:20230622T170000
DTSTAMP:20260422T221708
CREATED:20230619T031628Z
LAST-MODIFIED:20230619T031628Z
UID:10181-1687248000-1687453200@depedaurora.ph
SUMMARY:FIFTH REGIONAL MANCOM
DESCRIPTION:FIFTH REGIONAL MANCOM \nWESTWOOD FARM EVENTS AND ACCOMMODATION\, BRGY CARE\, TARLAC
URL:https://depedaurora.ph/aurora/event/fifth-regional-mancom/
END:VEVENT
BEGIN:VEVENT
DTSTART;TZID=UTC:20230617T080000
DTEND;TZID=UTC:20230617T170000
DTSTAMP:20260422T221708
CREATED:20230525T080817Z
LAST-MODIFIED:20230525T080817Z
UID:9961-1686988800-1687021200@depedaurora.ph
SUMMARY:ONLINE SEMINAR-WORKSHOP ON TIP COURSE 1 AND 2
DESCRIPTION:DIVISION ORIENTATION ON THE IMPLEMENTATION OF THE INDUCTION PROGRAM FOR BEGINNING TEACHERS (IPBT) TO NEWLY-HIRED TEACHERS \nPROPONENT: LAURENSA L. CABANAYAN SEPS-HRD/PETER G. CALISAAN\, EPSII-HRD \nONLINE SEMINAR-WORKSHOP ON TIP COURSE 1 AND 2 \nJUNE 17\, 2023
URL:https://depedaurora.ph/aurora/event/online-seminar-workshop-on-tip-course-1-and-2/
END:VEVENT
BEGIN:VEVENT
DTSTART;TZID=UTC:20230617T080000
DTEND;TZID=UTC:20230617T170000
DTSTAMP:20260422T221708
CREATED:20230524T022243Z
LAST-MODIFIED:20230524T022243Z
UID:9946-1686988800-1687021200@depedaurora.ph
SUMMARY:Division Training-Workshop Of Science Laboratory Managers and Science Teachers on Laboratory Management and Enhancing their Practical Skills in the Utilization and Manipulation of Apparatuses\, Materials and Equipment
DESCRIPTION:TRAINING PROJECT PROPOSAL SDO-2023-044 \nTITLE: Division Training-Workshop Of Science Laboratory Managers and Science Teachers on Laboratory Management and Enhancing their Practical Skills in the Utilization and Manipulation of Apparatuses\, Materials and Equipment \nPROPONENT: EDUARDO P. DUCHA \nPROPOSED DATE JUNE 10-11 and 17\, 2023
URL:https://depedaurora.ph/aurora/event/division-training-workshop-of-science-laboratory-managers-and-science-teachers-on-laboratory-management-and-enhancing-their-practical-skills-in-the-utilization-and-manipulation-of-apparatuses-materi-2/
END:VEVENT
BEGIN:VEVENT
DTSTART;TZID=UTC:20230616T080000
DTEND;TZID=UTC:20230616T170000
DTSTAMP:20260422T221708
CREATED:20230620T075250Z
LAST-MODIFIED:20230620T075250Z
UID:10205-1686902400-1686934800@depedaurora.ph
SUMMARY:REPRODUCTION OF TEST MATERIALS FOR THE STE AND SCIENCE HIGH SCHOOL ADMISSION TEST
DESCRIPTION:REPRODUCTION OF TEST MATERIALS FOR THE STE AND SCIENCE HIGH SCHOOL ADMISSION TEST \nPROPONENT: EDUARDO P. DUCHA
URL:https://depedaurora.ph/aurora/event/reproduction-of-test-materials-for-the-ste-and-science-high-school-admission-test/
END:VEVENT
BEGIN:VEVENT
DTSTART;TZID=UTC:20230616T080000
DTEND;TZID=UTC:20230616T170000
DTSTAMP:20260422T221708
CREATED:20230615T045902Z
LAST-MODIFIED:20230615T045902Z
UID:10148-1686902400-1686934800@depedaurora.ph
SUMMARY:ORIENTATION FOR TEACHER I APPLICANTS ON THE NEW DEPED MERIT SELECTION PLAN AND RECRUITMENT\, SELECTION\, AND APPOINTMENT GUIDELINES
DESCRIPTION:TITLE: ORIENTATION FOR TEACHER I APPLICANTS ON THE NEW DEPED MERIT SELECTION PLAN AND RECRUITMENT\, SELECTION\, AND APPOINTMENT GUIDELINES \nPROPONENT: FLORENTINA L. CATIPON- AO V \nPROPOSED DATE: JUNE 16\, 2023 \nPROPOSED VENUE: AURORA SPORTS COMPLEX\, RESERVA BALER\, AURORA
URL:https://depedaurora.ph/aurora/event/orientation-for-teacher-i-applicants-on-the-new-deped-merit-selection-plan-and-recruitment-selection-and-appointment-guidelines/
END:VEVENT
BEGIN:VEVENT
DTSTART;VALUE=DATE:20230615
DTEND;VALUE=DATE:20230616
DTSTAMP:20260422T221708
CREATED:20230602T051047Z
LAST-MODIFIED:20230602T051107Z
UID:10031-1686787200-1686873599@depedaurora.ph
SUMMARY:Orientation and Training of Document Tracking System for SDO Personnel
DESCRIPTION:Orientation and Training of Document Tracking System for SDO Personnel \nTraining of Users (1Day) (SDO Level) 8AM-5PM \nOffice of the SDS -2\nOffice of the ASDS-2\nICT – 1\nLegal – 1\nGeneral Services-1\nRecords – 1\nHRMO – 1\nSupply – 1\nCashier – 1\nAccounting -1\nBudget – 1\nPayroll – 1\nCID IM/DIS – 1\nCID-LRMDC – 1\nSGOD-SMME – 1\nSGOD-HRD – 1\nSGOD – Planning and Research – 1\nSGOD-SMN – 1\nSGOD-YF – 1\nSGOD – SH – 1\nSGOD-Educ Facilities – 1\nBAC – 1\nTWG – (5)
URL:https://depedaurora.ph/aurora/event/orientation-and-training-of-document-tracking-system-for-sdo-personnel/
END:VEVENT
BEGIN:VEVENT
DTSTART;TZID=UTC:20230614T080000
DTEND;TZID=UTC:20230616T170000
DTSTAMP:20260422T221708
CREATED:20230601T030802Z
LAST-MODIFIED:20230601T030802Z
UID:10021-1686729600-1686934800@depedaurora.ph
SUMMARY:LEARNER FORMATION COORDINATORS ASSEMBLY CUM CAPBUILD ON THE HARMONIZATION OF LEARNER FORMATION PROGRAMS\,PROJECTS AND ACTIVITIES (PPAs)
DESCRIPTION:TITLE: LEARNER FORMATION COORDINATORS ASSEMBLY CUM CAPBUILD ON THE HARMONIZATION OF LEARNER FORMATION PROGRAMS\,PROJECTS AND ACTIVITIES (PPAs) \nPROPONENT: JUVY LYN MIRANDA AND REYNAN L. LAPITAN \nPROPOSED DATE : JUNE 14-16\, 2023 \nVENUE: BALER AURORA
URL:https://depedaurora.ph/aurora/event/learner-formation-coordinators-assembly-cum-capbuild-on-the-harmonization-of-learner-formation-programsprojects-and-activities-ppas/
END:VEVENT
BEGIN:VEVENT
DTSTART;TZID=UTC:20230614T080000
DTEND;TZID=UTC:20230614T170000
DTSTAMP:20260422T221708
CREATED:20230622T080313Z
LAST-MODIFIED:20230622T080359Z
UID:10212-1686729600-1686762000@depedaurora.ph
SUMMARY:FLEXIBLE LEARNING OPTIONS-LEARNING RESOURCES LRs AND THE DEVELOPMENT AND PRODUCTION OF SELF LEARNING MODULES SLMs FOR CY 2023
DESCRIPTION:FLEXIBLE LEARNING OPTIONS-LEARNING RESOURCES LRs AND THE DEVELOPMENT AND PRODUCTION OF SELF LEARNING MODULES SLMs FOR CY 2023 \nPROPONENT: ESTRELLA D. NERI\, EPS-LRMDS
URL:https://depedaurora.ph/aurora/event/flexible-learning-options-learning-resources-lrs-and-the-development-and-production-of-self-learning-modules-slms-for-cy-2023/
END:VEVENT
BEGIN:VEVENT
DTSTART;TZID=UTC:20230610T080000
DTEND;TZID=UTC:20230611T170000
DTSTAMP:20260422T221708
CREATED:20230522T083853Z
LAST-MODIFIED:20230524T040551Z
UID:9863-1686384000-1686502800@depedaurora.ph
SUMMARY:Division Training-Workshop Of Science Laboratory Managers and Science Teachers on Laboratory Management and Enhancing their Practical Skills in the Utilization and Manipulation of Apparatuses\, Materials and Equipment
DESCRIPTION:TRAINING PROJECT PROPOSAL SDO-2023-044 \nTITLE: Division Training-Workshop Of Science Laboratory Managers and Science Teachers on Laboratory Management and Enhancing their Practical Skills in the Utilization and Manipulation of Apparatuses\, Materials and Equipment \nPROPONENT: EDUARDO P. DUCHA \nPROPOSED DATE JUNE 10-11 and 17\, 2023
URL:https://depedaurora.ph/aurora/event/division-training-workshop-of-science-laboratory-managers-and-science-teachers-on-laboratory-management-and-enhancing-their-practical-skills-in-the-utilization-and-manipulation-of-apparatuses-materia/
END:VEVENT
BEGIN:VEVENT
DTSTART;TZID=UTC:20230610T080000
DTEND;TZID=UTC:20230610T170000
DTSTAMP:20260422T221708
CREATED:20230529T045837Z
LAST-MODIFIED:20230529T045837Z
UID:9980-1686384000-1686416400@depedaurora.ph
SUMMARY:DIVISION FEDERATION OF ELECTION OF THE SUPREME ELEMENTARY LEARNER GOVERNMENT (SELG) SUPREME SECONDARY LEARNER GOVERNMENT (SSLG) FOR THE YEAR 2023-2024
DESCRIPTION:DIVISION FEDERATION OF ELECTION OF THE SUPREME ELEMENTARY LEARNER GOVERNMENT (SELG) SUPREME SECONDARY LEARNER GOVERNMENT (SSLG) FOR THE YEAR 2023-2024 \nPROPONENTS: JUVY LYN C. MIRANDA/ REYNAN L. LAPITAN \nPROPOSED DATE : JUNE 10\, 2023
URL:https://depedaurora.ph/aurora/event/division-federation-of-election-of-the-supreme-elementary-learner-government-selg-supreme-secondary-learner-government-sslg-for-the-year-2023-2024/
END:VEVENT
BEGIN:VEVENT
DTSTART;TZID=UTC:20230610T080000
DTEND;TZID=UTC:20230610T170000
DTSTAMP:20260422T221708
CREATED:20230525T080526Z
LAST-MODIFIED:20230525T080526Z
UID:9958-1686384000-1686416400@depedaurora.ph
SUMMARY:DIVISION ORIENTATION ON THE IMPLEMENTATION OF THE INDUCTION PROGRAM FOR BEGINNING TEACHERS (IPBT) TO NEWLY-HIRED TEACHERS
DESCRIPTION:DIVISION ORIENTATION ON THE IMPLEMENTATION OF THE INDUCTION PROGRAM FOR BEGINNING TEACHERS (IPBT) TO NEWLY-HIRED TEACHERS \nPROPONENT: LAURENSA L. CABANAYAN SEPS-HRD/PETER G. CALISAAN\, EPSII-HRD \nCLUSTER 2 ORIENTATION JUNE 10\, 2023
URL:https://depedaurora.ph/aurora/event/division-orientation-on-the-implementation-of-the-induction-program-for-beginning-teachers-ipbt-to-newly-hired-teachers-2/
END:VEVENT
BEGIN:VEVENT
DTSTART;TZID=UTC:20230605T080000
DTEND;TZID=UTC:20230605T170000
DTSTAMP:20260422T221708
CREATED:20230530T071812Z
LAST-MODIFIED:20230530T071812Z
UID:10003-1685952000-1685984400@depedaurora.ph
SUMMARY:MID-YEAR ASSESSMENT AND PERFORMANCE REVIEW OF SCHOOLS DEPARTMENT HEADS DESIGNATED AS HEAD TEACHERS
DESCRIPTION:TRAINING/PROJECT PROPOSAL NO. : SDO 2023-047 \nTITLE: MID-YEAR ASSESSMENT AND PERFORMANCE REVIEW OF SCHOOLS DEPARTMENT HEADS DESIGNATED AS HEAD TEACHERS \nPROPOSED DATE: JUNE 5\, 2023 \nPROPOSED VENUE: SDO CONFERENCE HALL
URL:https://depedaurora.ph/aurora/event/mid-year-assessment-and-performance-review-of-schools-department-heads-designated-as-head-teachers/
END:VEVENT
BEGIN:VEVENT
DTSTART;TZID=UTC:20230603T080000
DTEND;TZID=UTC:20230604T170000
DTSTAMP:20260422T221708
CREATED:20230518T025335Z
LAST-MODIFIED:20230523T030812Z
UID:9781-1685779200-1685898000@depedaurora.ph
SUMMARY:FINALIZATION OF THE LOCALLY-DEVELOPED FULLER TECHNIQUE LESSON PLANS FOR GRADE 1 TEACHERS
DESCRIPTION:PROJECT PROPOSAL NO. SDO 2023-034 \nTITLE:FINALIZATION OF THE LOCALLY-DEVELOPED FULLER TECHNIQUE LESSON PLANS FOR GRADE 1 TEACHERS \nPROPONENTS: MARIETTA DL. ALVIAR\,PSDS\, ESTRELLA D. NERI\, EPS-LR\, ROSALIND P. DE MESA\, EPS ENGLISH \nPROPOSED DATE: JUNE 3-4\, 2023
URL:https://depedaurora.ph/aurora/event/finalization-of-the-locally-developed-fuller-technique-lesson-plans-for-grade-1-teachers/
END:VEVENT
BEGIN:VEVENT
DTSTART;TZID=UTC:20230603T080000
DTEND;TZID=UTC:20230603T170000
DTSTAMP:20260422T221708
CREATED:20230525T080451Z
LAST-MODIFIED:20230525T080451Z
UID:9954-1685779200-1685811600@depedaurora.ph
SUMMARY:DIVISION ORIENTATION ON THE IMPLEMENTATION OF THE INDUCTION PROGRAM FOR BEGINNING TEACHERS (IPBT) TO NEWLY-HIRED TEACHERS
DESCRIPTION:DIVISION ORIENTATION ON THE IMPLEMENTATION OF THE INDUCTION PROGRAM FOR BEGINNING TEACHERS (IPBT) TO NEWLY-HIRED TEACHERS \nPROPONENT: LAURENSA L. CABANAYAN SEPS-HRD/PETER G. CALISAAN\, EPSII-HRD \nCLUSTER 1 ORIENTATION JUNE 3\, 2023
URL:https://depedaurora.ph/aurora/event/division-orientation-on-the-implementation-of-the-induction-program-for-beginning-teachers-ipbt-to-newly-hired-teachers/
END:VEVENT
BEGIN:VEVENT
DTSTART;VALUE=DATE:20230601
DTEND;VALUE=DATE:20230603
DTSTAMP:20260422T221708
CREATED:20230428T021722Z
LAST-MODIFIED:20230428T021722Z
UID:9691-1685577600-1685750399@depedaurora.ph
SUMMARY:MONITORING AND TA PROVISION ON WORK IMMERSION IMPLEMENTATION OF SENIOR HIGH SCHOOL (SHS) IMPLEMENTERS IN PRIVATE AND PUBLIC SHS
DESCRIPTION:DIVISION MEMORANDUM NO. 079 S. 2023 \nMONITORING AND TA PROVISION ON WORK IMMERSION IMPLEMENTATION OF SENIOR HIGH SCHOOL (SHS) IMPLEMENTERS IN PRIVATE AND PUBLIC SHS
URL:https://depedaurora.ph/aurora/event/monitoring-and-ta-provision-on-work-immersion-implementation-of-senior-high-school-shs-implementers-in-private-and-public-shs-5/
END:VEVENT
BEGIN:VEVENT
DTSTART;TZID=UTC:20230531T133000
DTEND;TZID=UTC:20230531T170000
DTSTAMP:20260422T221708
CREATED:20230529T053821Z
LAST-MODIFIED:20230529T053821Z
UID:9987-1685539800-1685552400@depedaurora.ph
SUMMARY:NOTICE OF MEETING REGULAR MEETING OF THE SDO UNIT HEADS
DESCRIPTION:OFFICE MEMORANDUM NO. 018\, S. 2023 \nNOTICE OF MEETING REGULAR MEETING OF THE SDO UNIT HEADS
URL:https://depedaurora.ph/aurora/event/notice-of-meeting-regular-meeting-of-the-sdo-unit-heads-2/
END:VEVENT
BEGIN:VEVENT
DTSTART;TZID=UTC:20230530T080000
DTEND;TZID=UTC:20230531T170000
DTSTAMP:20260422T221708
CREATED:20230523T053815Z
LAST-MODIFIED:20230523T053815Z
UID:9935-1685433600-1685552400@depedaurora.ph
SUMMARY:DIVISION ORIENTATION ON THE NEW DEPED MERIT SELECTION PLAN (MSP)\, RECRUITMENT\, SELECTION\, AND APPOINTMENT (RSA) GUIDELINES
DESCRIPTION:  \nDIVISION MEMORANDUM NO. 099 S. 2023 \nDIVISION ORIENTATION ON THE NEW DEPED MERIT SELECTION PLAN (MSP)\, RECRUITMENT\, SELECTION\, AND APPOINTMENT (RSA) GUIDELINES
URL:https://depedaurora.ph/aurora/event/division-orientation-on-the-new-deped-merit-selection-plan-msp-recruitment-selection-and-appointment-rsa-guidelines/
END:VEVENT
END:VCALENDAR