BEGIN:VCALENDAR
VERSION:2.0
PRODID:-//DEPED AURORA - ECPv6.15.17.1//NONSGML v1.0//EN
CALSCALE:GREGORIAN
METHOD:PUBLISH
X-WR-CALNAME:DEPED AURORA
X-ORIGINAL-URL:https://depedaurora.ph/aurora
X-WR-CALDESC:Events for DEPED AURORA
REFRESH-INTERVAL;VALUE=DURATION:PT1H
X-Robots-Tag:noindex
X-PUBLISHED-TTL:PT1H
BEGIN:VTIMEZONE
TZID:UTC
BEGIN:STANDARD
TZOFFSETFROM:+0000
TZOFFSETTO:+0000
TZNAME:UTC
DTSTART:20210101T000000
END:STANDARD
END:VTIMEZONE
BEGIN:VEVENT
DTSTART;TZID=UTC:20220728T080000
DTEND;TZID=UTC:20220728T170000
DTSTAMP:20260423T172859
CREATED:20220727T102916Z
LAST-MODIFIED:20220803T102944Z
UID:7959-1658995200-1659027600@depedaurora.ph
SUMMARY:PAGPAPLANO NG TECHNICAL WORKING GROUP PARA SA PAGSASANAY NG MGA BAGONG GURO SA KINDERGARTEN
DESCRIPTION:DIVISION MEMORANDUM NO. 148 s. 2022 \nPAGPAPLANO NG TECHNICAL WORKING GROUP PARA SA PAGSASANAY NG MGA BAGONG GURO SA KINDERGARTEN
URL:https://depedaurora.ph/aurora/event/pagpaplano-ng-technical-working-group-para-sa-pagsasanay-ng-mga-bagong-guro-sa-kindergarten/
END:VEVENT
BEGIN:VEVENT
DTSTART;TZID=UTC:20220727T080000
DTEND;TZID=UTC:20220729T170000
DTSTAMP:20260423T172859
CREATED:20220714T063647Z
LAST-MODIFIED:20220804T064836Z
UID:7997-1658908800-1659114000@depedaurora.ph
SUMMARY:RANKING OF PRINCIPAL II\, III & IV ELEMENTARY AND SECONDARY SCHOOLS
DESCRIPTION:DIVISION MEMORANDUM NO. 134 s. 2022 \nRANKING OF PRINCIPAL II\, III & IV ELEMENTARY AND SECONDARY SCHOOLS
URL:https://depedaurora.ph/aurora/event/ranking-of-principal-ii-iii-iv-elementary-and-secondary-schools/
END:VEVENT
BEGIN:VEVENT
DTSTART;TZID=UTC:20220727T080000
DTEND;TZID=UTC:20220727T170000
DTSTAMP:20260423T172859
CREATED:20220722T032012Z
LAST-MODIFIED:20220808T082911Z
UID:7978-1658908800-1658941200@depedaurora.ph
SUMMARY:6th DIVISION MANAGEMENT COMMITTEE MEETING (MANCOM)
DESCRIPTION:DIVISION MEMORANDUM NO. 143 s. 2022 \n6th DIVISION MANAGEMENT COMMITTEE MEETING (MANCOM)
URL:https://depedaurora.ph/aurora/event/6th-division-management-committee-meeting-mancom/
END:VEVENT
BEGIN:VEVENT
DTSTART;TZID=UTC:20220725T080000
DTEND;TZID=UTC:20220725T170000
DTSTAMP:20260423T172859
CREATED:20220722T020836Z
LAST-MODIFIED:20220804T055427Z
UID:7980-1658736000-1658768400@depedaurora.ph
SUMMARY:NOTICE OF MEETING FOR ALTERNATIVE LEARNING SYSTEM IMPLEMENTERS
DESCRIPTION:DIVISION MEMORANDUM NO. 142 s. 2022 \nNOTICE OF MEETING FOR ALTERNATIVE LEARNING SYSTEM IMPLEMENTERS
URL:https://depedaurora.ph/aurora/event/notice-of-meeting-for-alternative-learning-system-implementers/
END:VEVENT
BEGIN:VEVENT
DTSTART;TZID=UTC:20220722T080000
DTEND;TZID=UTC:20220722T170000
DTSTAMP:20260423T172859
CREATED:20220721T064550Z
LAST-MODIFIED:20220804T055550Z
UID:7982-1658476800-1658509200@depedaurora.ph
SUMMARY:MARIA AURORA EAST DISTRICT RANKING FOR TEACHER III POSITION
DESCRIPTION:DIVISION MEMORANDUM NO. 141 s. 2022 \nMARIA AURORA EAST DISTRICT RANKING FOR TEACHER III POSITION
URL:https://depedaurora.ph/aurora/event/maria-aurora-east-district-ranking-for-teacher-iii-position/
END:VEVENT
BEGIN:VEVENT
DTSTART;TZID=UTC:20220722T080000
DTEND;TZID=UTC:20220722T170000
DTSTAMP:20260423T172859
CREATED:20220719T002659Z
LAST-MODIFIED:20220804T064137Z
UID:7992-1658476800-1658509200@depedaurora.ph
SUMMARY:PARTICIPATION TO THE 2022 MUNICIPAL DISASTER RISK REDUCTION AND MANAGEMENT COUNCIL (MDRRMC) CONTESTS
DESCRIPTION:DIVISION MEMORANDUM NO. 136 s. 2022 \nPARTICIPATION TO THE 2022 MUNICIPAL DISASTER RISK REDUCTION AND MANAGEMENT COUNCIL (MDRRMC) CONTESTS
URL:https://depedaurora.ph/aurora/event/participation-to-the-2022-municipal-disaster-risk-reduction-and-management-council-mdrrmc-contests/
END:VEVENT
BEGIN:VEVENT
DTSTART;TZID=UTC:20220721T080000
DTEND;TZID=UTC:20220721T170000
DTSTAMP:20260423T172859
CREATED:20220721T013525Z
LAST-MODIFIED:20220804T055727Z
UID:7984-1658390400-1658422800@depedaurora.ph
SUMMARY:WRITESHOP ON THE PRESEVATION OF AURORA’S CULTURES AND TRADITIONS
DESCRIPTION:DIVISION MEMORANDUM NO. 140 s. 2022 \nWRITESHOP ON THE PRESEVATION OF AURORA’S CULTURES AND TRADITIONS
URL:https://depedaurora.ph/aurora/event/writeshop-on-the-presevation-of-auroras-cultures-and-traditions/
END:VEVENT
BEGIN:VEVENT
DTSTART;TZID=UTC:20220718T080000
DTEND;TZID=UTC:20220721T170000
DTSTAMP:20260423T172859
CREATED:20220704T022538Z
LAST-MODIFIED:20220804T065509Z
UID:8007-1658131200-1658422800@depedaurora.ph
SUMMARY:DIVISION TRAINING WORKSHOP ON THE DEVELOPMENT OF SCHOOL LEARNING RECOVERY PLAN (SLRP)
DESCRIPTION:DIVISION MEMORANDUM NO. 129 s. 2022 \nDIVISION TRAINING WORKSHOP ON THE DEVELOPMENT OF SCHOOL LEARNING RECOVERY PLAN (SLRP)
URL:https://depedaurora.ph/aurora/event/division-training-workshop-on-the-development-of-school-learning-recovery-plan-slrp/
END:VEVENT
BEGIN:VEVENT
DTSTART;TZID=UTC:20220718T080000
DTEND;TZID=UTC:20220718T170000
DTSTAMP:20260423T172859
CREATED:20220715T002018Z
LAST-MODIFIED:20220804T064504Z
UID:7994-1658131200-1658163600@depedaurora.ph
SUMMARY:SAN LUIS DISTRICT RANKING FOR TEACHER II POSITION
DESCRIPTION:DIVISION MEMORANDUM NO. 135 s. 2022 \nSAN LUIS DISTRICT RANKING FOR TEACHER II POSITION
URL:https://depedaurora.ph/aurora/event/san-luis-district-ranking-for-teacher-ii-position/
END:VEVENT
BEGIN:VEVENT
DTSTART;TZID=UTC:20220712T080000
DTEND;TZID=UTC:20220715T170000
DTSTAMP:20260423T172859
CREATED:20220711T010431Z
LAST-MODIFIED:20220804T065022Z
UID:8001-1657612800-1657904400@depedaurora.ph
SUMMARY:CORRIGENDUM ON THE DIVISION MEMORANDUM NO. 121 RE: TRAINING-WORKSHOP ON THE DIGITIZATION OF LOCALLY DEVELOPED SLMs
DESCRIPTION:DIVISION MEMORANDUM NO. 133 s. 2022 \nCORRIGENDUM ON THE DIVISION MEMORANDUM NO. 121 RE: TRAINING-WORKSHOP ON THE DIGITIZATION OF LOCALLY DEVELOPED SLMs
URL:https://depedaurora.ph/aurora/event/corrigendum-on-the-division-memorandum-no-121-re-training-workshop-on-the-digitization-of-locally-developed-slms/
END:VEVENT
BEGIN:VEVENT
DTSTART;TZID=UTC:20220708T080000
DTEND;TZID=UTC:20220708T170000
DTSTAMP:20260423T172859
CREATED:20220606T023153Z
LAST-MODIFIED:20220804T065130Z
UID:8003-1657267200-1657299600@depedaurora.ph
SUMMARY:DIVISION ORIENTATION ON THE UTILIZATION OF TABLETS TO SCHOOL RECIPIENTS
DESCRIPTION:DIVISION MEMORANDUM NO. 131 s. 2022 \nDIVISION ORIENTATION ON THE UTILIZATION OF TABLETS TO SCHOOL RECIPIENTS
URL:https://depedaurora.ph/aurora/event/division-orientation-on-the-utilization-of-tablets-to-school-recipients/
END:VEVENT
BEGIN:VEVENT
DTSTART;TZID=UTC:20220706T080000
DTEND;TZID=UTC:20220706T170000
DTSTAMP:20260423T172859
CREATED:20220704T022430Z
LAST-MODIFIED:20220804T065613Z
UID:8009-1657094400-1657126800@depedaurora.ph
SUMMARY:NOTICE OF MEETING FOR MULTIGRADE COORDINATORS IN CENTRAL AURORA
DESCRIPTION:DIVISION MEMORANDUM NO. 128 s. 2022 \nNOTICE OF MEETING FOR MULTIGRADE COORDINATORS IN CENTRAL AURORA
URL:https://depedaurora.ph/aurora/event/notice-of-meeting-for-multigrade-coordinators-in-central-aurora/
END:VEVENT
BEGIN:VEVENT
DTSTART;TZID=UTC:20220704T080000
DTEND;TZID=UTC:20220709T170000
DTSTAMP:20260423T172859
CREATED:20220704T022621Z
LAST-MODIFIED:20220804T065332Z
UID:8005-1656921600-1657386000@depedaurora.ph
SUMMARY:EMPOWERMENT WORKSHOPN ON THE DEVELOPMENT OF INTERACTIVE LEARNING RESOURCES AND MASSIVE OPEN OFFLINE/ONLINE COURSES
DESCRIPTION:DIVISION MEMORANDUM NO. 130 s. 2022 \nEMPOWERMENT WORKSHOPN ON THE DEVELOPMENT OF INTERACTIVE LEARNING RESOURCES AND MASSIVE OPEN OFFLINE/ONLINE COURSES
URL:https://depedaurora.ph/aurora/event/empowerment-workshopn-on-the-development-of-interactive-learning-resources-and-massive-open-offline-online-courses/
END:VEVENT
BEGIN:VEVENT
DTSTART;TZID=UTC:20220701T080000
DTEND;TZID=UTC:20220718T170000
DTSTAMP:20260423T172859
CREATED:20220623T050543Z
LAST-MODIFIED:20220804T065844Z
UID:8013-1656662400-1658163600@depedaurora.ph
SUMMARY:DIVISION REVALIDATION OF PRESENTATION PORTFOLIO OF ALS ELEMENTARY AND JUNIOR HIGH SCHOOL COMPLETERS
DESCRIPTION:DIVISION MEMORANDUM NO. 126 s. 2022 \nDIVISION REVALIDATION OF PRESENTATION PORTFOLIO OF ALS ELEMENTARY AND JUNIOR HIGH SCHOOL COMPLETERS
URL:https://depedaurora.ph/aurora/event/division-revalidation-of-presentation-portfolio-of-als-elementary-and-junior-high-school-completers/
END:VEVENT
BEGIN:VEVENT
DTSTART;TZID=UTC:20220505T080000
DTEND;TZID=UTC:20220505T170000
DTSTAMP:20260423T172859
CREATED:20220325T064112Z
LAST-MODIFIED:20220325T064112Z
UID:7559-1651737600-1651770000@depedaurora.ph
SUMMARY:DIVISION IMPLEMENTATION OF ENHANCED TEACHER INDUCTION PROGRAM (TIP) FOR SY 2021-2022
DESCRIPTION:Division Memorandum no. 061\, s. 2022 \nDIVISION IMPLEMENTATION OF ENHANCED TEACHER INDUCTION PROGRAM (TIP) FOR SY 2021-2022
URL:https://depedaurora.ph/aurora/event/division-implementation-of-enhanced-teacher-induction-program-tip-for-sy-2021-2022-4/
END:VEVENT
BEGIN:VEVENT
DTSTART;TZID=UTC:20220419T080000
DTEND;TZID=UTC:20220419T170000
DTSTAMP:20260423T172859
CREATED:20220325T064036Z
LAST-MODIFIED:20220325T064036Z
UID:7557-1650355200-1650387600@depedaurora.ph
SUMMARY:DIVISION IMPLEMENTATION OF ENHANCED TEACHER INDUCTION PROGRAM (TIP) FOR SY 2021-2022
DESCRIPTION:Division Memorandum no. 061\, s. 2022 \nDIVISION IMPLEMENTATION OF ENHANCED TEACHER INDUCTION PROGRAM (TIP) FOR SY 2021-2022
URL:https://depedaurora.ph/aurora/event/division-implementation-of-enhanced-teacher-induction-program-tip-for-sy-2021-2022-3/
END:VEVENT
BEGIN:VEVENT
DTSTART;TZID=UTC:20220418T080000
DTEND;TZID=UTC:20220422T170000
DTSTAMP:20260423T172859
CREATED:20220317T053510Z
LAST-MODIFIED:20220317T053510Z
UID:7437-1650268800-1650646800@depedaurora.ph
SUMMARY:ADMINISTRATION OF THE 2022 ONLINE ENGLISH PROFICIENCY TEST FOR ELEMENTARY AND JUNIOR SCHOOL TEACHER APPLICANTS
DESCRIPTION:Division Memorandum no. 053\, s. 2022 \nADMINISTRATION OF THE 2022 ONLINE ENGLISH PROFICIENCY TEST FOR ELEMENTARY AND JUNIOR SCHOOL TEACHER APPLICANTS
URL:https://depedaurora.ph/aurora/event/administration-of-the-2022-online-english-proficiency-test-for-elementary-and-junior-school-teacher-applicants/
LOCATION:Aurora National Science HS
END:VEVENT
BEGIN:VEVENT
DTSTART;TZID=UTC:20220418T080000
DTEND;TZID=UTC:20220419T170000
DTSTAMP:20260423T172859
CREATED:20220325T063639Z
LAST-MODIFIED:20220325T063639Z
UID:7549-1650268800-1650387600@depedaurora.ph
SUMMARY:ONSITE CAPACITY TRAINING ON THE IMPLEMENTATION OF GULAYAN SA PAARALAN PROGRAM (GPP)
DESCRIPTION:Division Memorandum no. 059\, s. 2022 \nONSITE CAPACITY TRAINING ON THE IMPLEMENTATION OF GULAYAN SA PAARALAN PROGRAM (GPP)
URL:https://depedaurora.ph/aurora/event/onsite-capacity-training-on-the-implementation-of-gulayan-sa-paaralan-program-gpp/
END:VEVENT
BEGIN:VEVENT
DTSTART;TZID=UTC:20220418T080000
DTEND;TZID=UTC:20220418T170000
DTSTAMP:20260423T172859
CREATED:20220317T053953Z
LAST-MODIFIED:20220317T053953Z
UID:7441-1650268800-1650301200@depedaurora.ph
SUMMARY:SUBMISSION OF FIRST QUARTER SCHOOL MONITORING\, EVALUATION\, AND ADJUSTMENT (SMEA) REPORT
DESCRIPTION:Division Memorandum no. 054\, s. 2022 \nSUBMISSION OF FIRST QUARTER SCHOOL MONITORING\, EVALUATION\, AND ADJUSTMENT (SMEA) REPORT
URL:https://depedaurora.ph/aurora/event/submission-of-first-quarter-school-monitoring-evaluation-and-adjustment-smea-report/
END:VEVENT
BEGIN:VEVENT
DTSTART;TZID=UTC:20220406T080000
DTEND;TZID=UTC:20220408T170000
DTSTAMP:20260423T172859
CREATED:20220325T090754Z
LAST-MODIFIED:20220325T090754Z
UID:7572-1649232000-1649437200@depedaurora.ph
SUMMARY:2022 FIRST QUARTER WORKSHOP ON THE DIVISION PROGRAM IMPLEMENTATION REVIEW (DPIR) CUM IPCRF REVISIT AND ADJUSTMENT
DESCRIPTION:Division Memorandum no. 063\, s. 2022 \n2022 FIRST QUARTER WORKSHOP ON THE DIVISION PROGRAM IMPLEMENTATION REVIEW (DPIR) CUM IPCRF REVISIT AND ADJUSTMENT
URL:https://depedaurora.ph/aurora/event/2022-first-quarter-workshop-on-the-division-program-implementation-review-dpir-cum-ipcrf-revisit-and-adjustment/
END:VEVENT
BEGIN:VEVENT
DTSTART;TZID=UTC:20220404T080000
DTEND;TZID=UTC:20220404T170000
DTSTAMP:20260423T172859
CREATED:20220325T064008Z
LAST-MODIFIED:20220325T064008Z
UID:7555-1649059200-1649091600@depedaurora.ph
SUMMARY:DIVISION IMPLEMENTATION OF ENHANCED TEACHER INDUCTION PROGRAM (TIP) FOR SY 2021-2022
DESCRIPTION:Division Memorandum no. 061\, s. 2022 \nDIVISION IMPLEMENTATION OF ENHANCED TEACHER INDUCTION PROGRAM (TIP) FOR SY 2021-2022
URL:https://depedaurora.ph/aurora/event/division-implementation-of-enhanced-teacher-induction-program-tip-for-sy-2021-2022-2/
END:VEVENT
BEGIN:VEVENT
DTSTART;TZID=UTC:20220331T080000
DTEND;TZID=UTC:20220331T120000
DTSTAMP:20260423T172859
CREATED:20220325T064346Z
LAST-MODIFIED:20220325T064346Z
UID:7561-1648713600-1648728000@depedaurora.ph
SUMMARY:CORRIGENDUM TO DIVISION MEMORANDUM NO. 055\, S. 2022\, VIRTUAL ORIENTATION ON THE SUPPLEMENTAL GUIDELINE ON DEPED ORDER NO. 031\, S. 2021 AND THE CHANGES ON PROCUREMENT SCHEME FOR THE NUTRITIOUS FOOD PRODUCTS (NFP) IN THE IMPLEMENTATION OF SCHOOL BASED FEEDING PROGRAM FY 2022
DESCRIPTION:Division Memorandum no. 062\, s. 2022 \nCORRIGENDUM TO DIVISION MEMORANDUM NO. 055\, S. 2022\, VIRTUAL ORIENTATION ON THE SUPPLEMENTAL GUIDELINE ON DEPED ORDER NO. 031\, S. 2021 AND THE CHANGES ON PROCUREMENT SCHEME FOR THE NUTRITIOUS FOOD PRODUCTS (NFP) IN THE IMPLEMENTATION OF SCHOOL BASED FEEDING PROGRAM FY 2022
URL:https://depedaurora.ph/aurora/event/corrigendum-to-division-memorandum-no-055-s-2022-virtual-orientation-on-the-supplemental-guideline-on-deped-order-no-031-s-2021-and-the-changes-on-procurement-scheme-for-the-nutritious-food-pro/
END:VEVENT
BEGIN:VEVENT
DTSTART;TZID=UTC:20220330T090000
DTEND;TZID=UTC:20220401T170000
DTSTAMP:20260423T172859
CREATED:20220318T060600Z
LAST-MODIFIED:20220318T060600Z
UID:7516-1648630800-1648832400@depedaurora.ph
SUMMARY:SIMULTANEOUS ONLINE-OFFLINE WORKSHOP ON THE PREPARATION\, VALIDATION AND CONSOLIDATION OF 1st QUARTER FINANCIAL REPORTS FY 2022
DESCRIPTION:Division Memorandum no. 057\, s. 2022 \nSIMULTANEOUS ONLINE-OFFLINE WORKSHOP ON THE PREPARATION\, VALIDATION AND CONSOLIDATION OF 1st QUARTER FINANCIAL REPORTS FY 2022
URL:https://depedaurora.ph/aurora/event/simultaneous-online-offline-workshop-on-the-preparation-validation-and-consolidation-of-1st-quarter-financial-reports-fy-2022/
END:VEVENT
BEGIN:VEVENT
DTSTART;TZID=UTC:20220329T080000
DTEND;TZID=UTC:20220329T170000
DTSTAMP:20260423T172859
CREATED:20220317T055013Z
LAST-MODIFIED:20220317T055013Z
UID:7450-1648540800-1648573200@depedaurora.ph
SUMMARY:VIRTUAL ORIENTATION ON THE SUPPLEMENTAL GUIDELINES ON DEPED ORDER NO. 031\, S. 2021 AND THE CHANGES ON PROCUREMENT SCHEME FOR THE NUTRITIOUS FOOD PRODUCTS (nfp) IN THE EMPLEMENTATION OF SCHOOL BASED FEEDING PROGRAM FY 2022
DESCRIPTION:Division Memorandum no. 055\, s. 2022 \nVIRTUAL ORIENTATION ON THE SUPPLEMENTAL GUIDELINES ON DEPED ORDER NO. 031\, S. 2021 AND THE CHANGES ON PROCUREMENT SCHEME FOR THE NUTRITIOUS FOOD PRODUCTS (nfp) IN THE EMPLEMENTATION OF SCHOOL BASED FEEDING PROGRAM FY 2022
URL:https://depedaurora.ph/aurora/event/virtual-orientation-on-the-supplemental-guidelines-on-deped-order-no-031-s-2021-and-the-changes-on-procurement-scheme-for-the-nutritious-food-products-nfp-in-the-emplementation-of-school-based-fe/
END:VEVENT
BEGIN:VEVENT
DTSTART;TZID=UTC:20220328T080000
DTEND;TZID=UTC:20220329T170000
DTSTAMP:20260423T172859
CREATED:20220325T063927Z
LAST-MODIFIED:20220325T063927Z
UID:7553-1648454400-1648573200@depedaurora.ph
SUMMARY:DIVISION IMPLEMENTATION OF ENHANCED TEACHER INDUCTION PROGRAM (TIP) FOR SY 2021-2022
DESCRIPTION:Division Memorandum no. 061\, s. 2022 \nDIVISION IMPLEMENTATION OF ENHANCED TEACHER INDUCTION PROGRAM (TIP) FOR SY 2021-2022
URL:https://depedaurora.ph/aurora/event/division-implementation-of-enhanced-teacher-induction-program-tip-for-sy-2021-2022/
END:VEVENT
BEGIN:VEVENT
DTSTART;TZID=UTC:20220324T130000
DTEND;TZID=UTC:20220324T170000
DTSTAMP:20260423T172859
CREATED:20220324T063716Z
LAST-MODIFIED:20220325T063812Z
UID:7551-1648126800-1648141200@depedaurora.ph
SUMMARY:DIVISION ONLINE SEMINAR WORKSHOP ON GAME-BASED LEARNING APPROACH WITH MINECRAFT: EDUCATION EDITION
DESCRIPTION:Division Memorandum no. 060\, s. 2022 \nDIVISION ONLINE SEMINAR WORKSHOP ON GAME-BASED LEARNING APPROACH WITH MINECRAFT: EDUCATION EDITION
URL:https://depedaurora.ph/aurora/event/division-online-seminar-workshop-on-game-based-learning-approach-with-minecraft-education-edition/
END:VEVENT
BEGIN:VEVENT
DTSTART;TZID=UTC:20220324T090000
DTEND;TZID=UTC:20220324T170000
DTSTAMP:20260423T172859
CREATED:20220318T084222Z
LAST-MODIFIED:20220318T084222Z
UID:7520-1648112400-1648141200@depedaurora.ph
SUMMARY:PROVINCIAL FORUM ON MENTAL HEALTH
DESCRIPTION:Division Advisory no. 004\, s. 2022 \nPROVINCIAL FORUM ON MENTAL HEALTH
URL:https://depedaurora.ph/aurora/event/provincial-forum-on-mental-health/
END:VEVENT
BEGIN:VEVENT
DTSTART;TZID=UTC:20220323T080000
DTEND;TZID=UTC:20220325T170000
DTSTAMP:20260423T172859
CREATED:20220317T052949Z
LAST-MODIFIED:20220317T052949Z
UID:7434-1648022400-1648227600@depedaurora.ph
SUMMARY:DIVISION TRAINING WORKSHOP ON THE ENHANCEMENT OF TEACHERS CAPACITY IN TEACHING MUSIC
DESCRIPTION:Division Memorandum no. 052\, s. 2022 \nDIVISION TRAINING WORKSHOP ON THE ENHANCEMENT OF TEACHERS CAPACITY IN TEACHING MUSIC
URL:https://depedaurora.ph/aurora/event/division-training-workshop-on-the-enhancement-of-teachers-capacity-in-teaching-music/
LOCATION:Baler NHS
END:VEVENT
BEGIN:VEVENT
DTSTART;TZID=UTC:20220323T080000
DTEND;TZID=UTC:20220325T170000
DTSTAMP:20260423T172859
CREATED:20220314T062546Z
LAST-MODIFIED:20220317T062619Z
UID:7456-1648022400-1648227600@depedaurora.ph
SUMMARY:DIVISION BLENDED TRAINING WORKSHOP ON THE DEVELOPMENT OF LEARNING MATERIALS FOR SPED TEACHERS
DESCRIPTION:Division Memorandum no. 040\, s. 2022 \nDIVISION BLENDED TRAINING WORKSHOP ON THE DEVELOPMENT OF LEARNING MATERIALS FOR SPED TEACHERS
URL:https://depedaurora.ph/aurora/event/division-blended-training-workshop-on-the-development-of-learning-materials-for-sped-teachers/
END:VEVENT
BEGIN:VEVENT
DTSTART;TZID=UTC:20220323T080000
DTEND;TZID=UTC:20220324T170000
DTSTAMP:20260423T172859
CREATED:20220314T062652Z
LAST-MODIFIED:20220317T062728Z
UID:7458-1648022400-1648141200@depedaurora.ph
SUMMARY:REGION-WIDE ORIENTAION OF PUBLIC SCHOOL HEADS ON THE PROGRESSIVE EXPANSION OF LIMITED FACE-TO-FACE CLASSES
DESCRIPTION:Division Memorandum no. 039\, s. 2022 \nREGION-WIDE ORIENTAION OF PUBLIC SCHOOL HEADS ON THE PROGRESSIVE EXPANSION OF LIMITED FACE-TO-FACE CLASSES
URL:https://depedaurora.ph/aurora/event/region-wide-orientaion-of-public-school-heads-on-the-progressive-expansion-of-limited-face-to-face-classes/
END:VEVENT
END:VCALENDAR