BEGIN:VCALENDAR
VERSION:2.0
PRODID:-//DEPED AURORA - ECPv6.15.17.1//NONSGML v1.0//EN
CALSCALE:GREGORIAN
METHOD:PUBLISH
X-WR-CALNAME:DEPED AURORA
X-ORIGINAL-URL:https://depedaurora.ph/aurora
X-WR-CALDESC:Events for DEPED AURORA
REFRESH-INTERVAL;VALUE=DURATION:PT1H
X-Robots-Tag:noindex
X-PUBLISHED-TTL:PT1H
BEGIN:VTIMEZONE
TZID:UTC
BEGIN:STANDARD
TZOFFSETFROM:+0000
TZOFFSETTO:+0000
TZNAME:UTC
DTSTART:20220101T000000
END:STANDARD
END:VTIMEZONE
BEGIN:VEVENT
DTSTART;TZID=UTC:20230810T080000
DTEND;TZID=UTC:20230811T170000
DTSTAMP:20260422T171558
CREATED:20230620T073305Z
LAST-MODIFIED:20230620T073305Z
UID:10203-1691654400-1691773200@depedaurora.ph
SUMMARY:CAPACITY BUILDING ON CONTINGENCY PLANNING FOR NEW SCHOOL DRRM COORDINATORS CUM:PLANNING AND MEETING
DESCRIPTION:CAPACITY BUILDING ON CONTINGENCY PLANNING FOR NEW SCHOOL DRRM COORDINATORS CUM:PLANNING AND MEETING \nPROPONENT: DAVID B. BANNAWI
URL:https://depedaurora.ph/aurora/event/capacity-building-on-contingency-planning-for-new-school-drrm-coordinators-cumplanning-and-meeting/
END:VEVENT
BEGIN:VEVENT
DTSTART;TZID=UTC:20230810T080000
DTEND;TZID=UTC:20230811T170000
DTSTAMP:20260422T171558
CREATED:20230803T023139Z
LAST-MODIFIED:20230803T023139Z
UID:10515-1691654400-1691773200@depedaurora.ph
SUMMARY:SEMINAR ON SCHOOL CONTINGENCY PLANNING FOR NEW SCHOOL DRRM COORDINATORS
DESCRIPTION:SEMINAR ON SCHOOL CONTINGENCY PLANNING FOR NEW SCHOOL DRRM COORDINATORS \nAUGUST 10-11\,2023 \nPERSON CONCERNS:D. BANNAWI\,P. CALISAAN
URL:https://depedaurora.ph/aurora/event/seminar-on-school-contingency-planning-for-new-school-drrm-coordinators/
END:VEVENT
BEGIN:VEVENT
DTSTART;TZID=UTC:20230810T080000
DTEND;TZID=UTC:20230811T170000
DTSTAMP:20260422T171558
CREATED:20230807T083828Z
LAST-MODIFIED:20230807T083828Z
UID:10541-1691654400-1691773200@depedaurora.ph
SUMMARY:CORRIGENDUM TO DIV. MEMORANDUM NO. 152 S.2023 ON TEACHERS UPSKILLING ON AGRI-FISHERY ARTS ON INTEGRATION OF DISHGARDENING AND BONSAI IN LANDSCAPING
DESCRIPTION:
URL:https://depedaurora.ph/aurora/event/corrigendum-to-div-memorandum-no-152-s-2023-on-teachers-upskilling-on-agri-fishery-arts-on-integration-of-dishgardening-and-bonsai-in-landscaping/
END:VEVENT
END:VCALENDAR