BEGIN:VCALENDAR
VERSION:2.0
PRODID:-//DEPED AURORA - ECPv6.15.17.1//NONSGML v1.0//EN
CALSCALE:GREGORIAN
METHOD:PUBLISH
X-ORIGINAL-URL:https://depedaurora.ph/aurora
X-WR-CALDESC:Events for DEPED AURORA
REFRESH-INTERVAL;VALUE=DURATION:PT1H
X-Robots-Tag:noindex
X-PUBLISHED-TTL:PT1H
BEGIN:VTIMEZONE
TZID:UTC
BEGIN:STANDARD
TZOFFSETFROM:+0000
TZOFFSETTO:+0000
TZNAME:UTC
DTSTART:20220101T000000
END:STANDARD
END:VTIMEZONE
BEGIN:VEVENT
DTSTART;TZID=UTC:20230722T080000
DTEND;TZID=UTC:20230724T170000
DTSTAMP:20260422T185351
CREATED:20230718T064757Z
LAST-MODIFIED:20230718T064757Z
UID:10392-1690012800-1690218000@depedaurora.ph
SUMMARY:DIVISION CAPACITY BUILDING ON THE IMPLEMENTATION OF THE NATIONAL LEARNING CAMP FOR GRADE 7 AND 8 TEACHERS AND SCHOOL HEADS
DESCRIPTION:DIVISION CAPACITY BUILDING ON THE IMPLEMENTATION OF THE NATIONAL LEARNING CAMP FOR GRADE 7 AND 8 TEACHERS AND SCHOOL HEADS \nPROPONENT: MILAGROS F. BAUTISTA/EDUARDO P. DUCHA \nPARTICIPANTS: 153 \nGRADE 7&8 TEACHERS- 110 \nSCHOOL HEADS-23 \nPSDS-4 \nEPS-6 \nTWG-10
URL:https://depedaurora.ph/aurora/event/division-capacity-building-on-the-implementation-of-the-national-learning-camp-for-grade-7-and-8-teachers-and-school-heads/
END:VEVENT
END:VCALENDAR