BEGIN:VCALENDAR
VERSION:2.0
PRODID:-//DEPED AURORA - ECPv6.15.17.1//NONSGML v1.0//EN
CALSCALE:GREGORIAN
METHOD:PUBLISH
X-WR-CALNAME:DEPED AURORA
X-ORIGINAL-URL:https://depedaurora.ph/aurora
X-WR-CALDESC:Events for DEPED AURORA
REFRESH-INTERVAL;VALUE=DURATION:PT1H
X-Robots-Tag:noindex
X-PUBLISHED-TTL:PT1H
BEGIN:VTIMEZONE
TZID:UTC
BEGIN:STANDARD
TZOFFSETFROM:+0000
TZOFFSETTO:+0000
TZNAME:UTC
DTSTART:20220101T000000
END:STANDARD
END:VTIMEZONE
BEGIN:VEVENT
DTSTART;TZID=UTC:20230717T080000
DTEND;TZID=UTC:20230719T170000
DTSTAMP:20260422T202926
CREATED:20230704T023531Z
LAST-MODIFIED:20230704T023531Z
UID:10277-1689580800-1689786000@depedaurora.ph
SUMMARY:6th REGIONAL MANCOM
DESCRIPTION:6th REGIONAL MANAGEMENT COMMITTEE MEETING \nVENUE: LAOAG CITY\, ILOCOS NORTE
URL:https://depedaurora.ph/aurora/event/6th-regional-mancom/
END:VEVENT
BEGIN:VEVENT
DTSTART;TZID=UTC:20230717T080000
DTEND;TZID=UTC:20230721T170000
DTSTAMP:20260422T202926
CREATED:20230605T010801Z
LAST-MODIFIED:20230605T010801Z
UID:10039-1689580800-1689958800@depedaurora.ph
SUMMARY:TRAINING WORKSHOP ON DIGITIZATION OF THE DEVELOPED UNIFIED EPP ASSESSMENT TOOLS FOR KEY STAGE 3 AND 4
DESCRIPTION:TITLE: TRAINING WORKSHOP ON DIGITIZATION OF THE DEVELOPED UNIFIED EPP ASSESSMENT TOOLS FOR KEY STAGE 3 AND 4 \nPROPONENT: JONALYN O. CALADO EPS-TLE \nPROPOSED DATE: JULY 17-21\, 2023
URL:https://depedaurora.ph/aurora/event/training-workshop-on-digitization-of-the-developed-unified-epp-assessment-tools-for-key-stage-3-and-4/
END:VEVENT
END:VCALENDAR