BEGIN:VCALENDAR
VERSION:2.0
PRODID:-//DEPED AURORA - ECPv6.15.17.1//NONSGML v1.0//EN
CALSCALE:GREGORIAN
METHOD:PUBLISH
X-ORIGINAL-URL:https://depedaurora.ph/aurora
X-WR-CALDESC:Events for DEPED AURORA
REFRESH-INTERVAL;VALUE=DURATION:PT1H
X-Robots-Tag:noindex
X-PUBLISHED-TTL:PT1H
BEGIN:VTIMEZONE
TZID:UTC
BEGIN:STANDARD
TZOFFSETFROM:+0000
TZOFFSETTO:+0000
TZNAME:UTC
DTSTART:20220101T000000
END:STANDARD
END:VTIMEZONE
BEGIN:VEVENT
DTSTART;TZID=UTC:20230710T080000
DTEND;TZID=UTC:20230714T170000
DTSTAMP:20260422T185349
CREATED:20230704T061258Z
LAST-MODIFIED:20230704T061258Z
UID:10285-1688976000-1689354000@depedaurora.ph
SUMMARY:GRADUATION WEEK
DESCRIPTION:GRADUATION WEEK
URL:https://depedaurora.ph/aurora/event/graduation-week/
END:VEVENT
BEGIN:VEVENT
DTSTART;TZID=UTC:20230710T090000
DTEND;TZID=UTC:20230710T150000
DTSTAMP:20260422T185349
CREATED:20230704T062002Z
LAST-MODIFIED:20230704T062002Z
UID:10287-1688979600-1689001200@depedaurora.ph
SUMMARY:PIR CONSOLIDATION MEETING
DESCRIPTION:
URL:https://depedaurora.ph/aurora/event/pir-consolidation-meeting/
END:VEVENT
BEGIN:VEVENT
DTSTART;TZID=UTC:20230710T150000
DTEND;TZID=UTC:20230710T170000
DTSTAMP:20260422T185349
CREATED:20230704T062102Z
LAST-MODIFIED:20230704T062102Z
UID:10289-1689001200-1689008400@depedaurora.ph
SUMMARY:5S MEETING
DESCRIPTION:5S MEETING
URL:https://depedaurora.ph/aurora/event/5s-meeting/
END:VEVENT
END:VCALENDAR