BEGIN:VCALENDAR
VERSION:2.0
PRODID:-//DEPED AURORA - ECPv6.15.17.1//NONSGML v1.0//EN
CALSCALE:GREGORIAN
METHOD:PUBLISH
X-ORIGINAL-URL:https://depedaurora.ph/aurora
X-WR-CALDESC:Events for DEPED AURORA
REFRESH-INTERVAL;VALUE=DURATION:PT1H
X-Robots-Tag:noindex
X-PUBLISHED-TTL:PT1H
BEGIN:VTIMEZONE
TZID:UTC
BEGIN:STANDARD
TZOFFSETFROM:+0000
TZOFFSETTO:+0000
TZNAME:UTC
DTSTART:20220101T000000
END:STANDARD
END:VTIMEZONE
BEGIN:VEVENT
DTSTART;TZID=UTC:20230704T080000
DTEND;TZID=UTC:20230707T170000
DTSTAMP:20260422T185351
CREATED:20230620T075433Z
LAST-MODIFIED:20230620T075433Z
UID:10207-1688457600-1688749200@depedaurora.ph
SUMMARY:SEMINAR WORKSHOP ON THE PREPARATION VALIDATION AND CONSOLIDATION OF MID YEAR FINANCIAL REPORTS FY.2023
DESCRIPTION:SEMINAR WORKSHOP ON THE PREPARATION VALIDATION AND CONSOLIDATION OF MID YEAR FINANCIAL REPORTS FY.2023 \nPROPONENT: MICHELLE M. VALENZUELA\, ALPHA JOY T. RAZON AND REYNALDO C. DUMPIT
URL:https://depedaurora.ph/aurora/event/seminar-workshop-on-the-preparation-validation-and-consolidation-of-mid-year-financial-reports-fy-2023/
END:VEVENT
BEGIN:VEVENT
DTSTART;TZID=UTC:20230705T080000
DTEND;TZID=UTC:20230705T170000
DTSTAMP:20260422T185351
CREATED:20230704T023902Z
LAST-MODIFIED:20230704T023902Z
UID:10279-1688544000-1688576400@depedaurora.ph
SUMMARY:SUBMISSION\, SCREENING AND EVALUATION OF DOCUMENTS FOR ELEMENTARY\, JHS AND SHS
DESCRIPTION:SUBMISSION\, SCREENING AND EVALUATION OF DOCUMENTS FOR ELEMENTARY\, JHS AND SHS \nCLUSTER 1: BALER\, MARIA AURORA\, DIPACULAO AND SAN LUIS DISTRICT \nVENUE: MARIA AURORA CS \nCLUSTER 2: DINALUNGAN\, CASIGURAN AND DILASAG DISTRICT \nVENUE: CASIGURAN CS \nCLUSTER 3: DINGALAN DISTRICT \nVENUE: DINGALAN CS
URL:https://depedaurora.ph/aurora/event/submission-screening-and-evaluation-of-documents-for-elementary-jhs-and-shs/
END:VEVENT
END:VCALENDAR