BEGIN:VCALENDAR
VERSION:2.0
PRODID:-//DEPED AURORA - ECPv6.15.17.1//NONSGML v1.0//EN
CALSCALE:GREGORIAN
METHOD:PUBLISH
X-WR-CALNAME:DEPED AURORA
X-ORIGINAL-URL:https://depedaurora.ph/aurora
X-WR-CALDESC:Events for DEPED AURORA
REFRESH-INTERVAL;VALUE=DURATION:PT1H
X-Robots-Tag:noindex
X-PUBLISHED-TTL:PT1H
BEGIN:VTIMEZONE
TZID:UTC
BEGIN:STANDARD
TZOFFSETFROM:+0000
TZOFFSETTO:+0000
TZNAME:UTC
DTSTART:20220101T000000
END:STANDARD
END:VTIMEZONE
BEGIN:VEVENT
DTSTART;TZID=UTC:20230624T080000
DTEND;TZID=UTC:20230624T170000
DTSTAMP:20260422T203226
CREATED:20230525T080159Z
LAST-MODIFIED:20230525T080159Z
UID:9951-1687593600-1687626000@depedaurora.ph
SUMMARY:VIRTUAL DIVISION TRAINING ON BARKADA KONTRA DROGA (BKD)
DESCRIPTION:TITLE:VIRTUAL DIVISION TRAINING ON BARKADA KONTRA DROGA (BKD) \nPROPONENT: JUVY LYN C. MIRANDA/REYNAN L. LAPITAN \nDATE: JUNE 24\, 2023 \nVENUE: SDO AURORA
URL:https://depedaurora.ph/aurora/event/virtual-division-training-on-barkada-kontra-droga-bkd/
END:VEVENT
BEGIN:VEVENT
DTSTART;TZID=UTC:20230624T080000
DTEND;TZID=UTC:20230624T170000
DTSTAMP:20260422T203226
CREATED:20230525T080910Z
LAST-MODIFIED:20230525T080910Z
UID:9963-1687593600-1687626000@depedaurora.ph
SUMMARY:ONLINE SEMINAR-WORKSHOP ON TIP COURSE 3 AND 4
DESCRIPTION:DIVISION ORIENTATION ON THE IMPLEMENTATION OF THE INDUCTION PROGRAM FOR BEGINNING TEACHERS (IPBT) TO NEWLY-HIRED TEACHERS \nPROPONENT: LAURENSA L. CABANAYAN SEPS-HRD/PETER G. CALISAAN\, EPSII-HRD \nONLINE SEMINAR-WORKSHOP ON TIP COURSE 3 AND 4 \nJUNE 24\, 2023
URL:https://depedaurora.ph/aurora/event/online-seminar-workshop-on-tip-course-3-and-4/
END:VEVENT
BEGIN:VEVENT
DTSTART;TZID=UTC:20230624T080000
DTEND;TZID=UTC:20230624T170000
DTSTAMP:20260422T203226
CREATED:20230530T033705Z
LAST-MODIFIED:20230530T033705Z
UID:9996-1687593600-1687626000@depedaurora.ph
SUMMARY:VIRTUAL DIVISION TRAINING ON BARKADA KONTRA DROGA
DESCRIPTION:DIVISION MEMORANDUM NO. 103 S. 2023 \nVIRTUAL DIVISION TRAINING ON BARKADA KONTRA DROGA
URL:https://depedaurora.ph/aurora/event/virtual-division-training-on-barkada-kontra-droga/
END:VEVENT
END:VCALENDAR