BEGIN:VCALENDAR
VERSION:2.0
PRODID:-//DEPED AURORA - ECPv6.15.17.1//NONSGML v1.0//EN
CALSCALE:GREGORIAN
METHOD:PUBLISH
X-ORIGINAL-URL:https://depedaurora.ph/aurora
X-WR-CALDESC:Events for DEPED AURORA
REFRESH-INTERVAL;VALUE=DURATION:PT1H
X-Robots-Tag:noindex
X-PUBLISHED-TTL:PT1H
BEGIN:VTIMEZONE
TZID:UTC
BEGIN:STANDARD
TZOFFSETFROM:+0000
TZOFFSETTO:+0000
TZNAME:UTC
DTSTART:20220101T000000
END:STANDARD
END:VTIMEZONE
BEGIN:VEVENT
DTSTART;TZID=UTC:20230617T080000
DTEND;TZID=UTC:20230617T170000
DTSTAMP:20260422T220815
CREATED:20230524T022243Z
LAST-MODIFIED:20230524T022243Z
UID:9946-1686988800-1687021200@depedaurora.ph
SUMMARY:Division Training-Workshop Of Science Laboratory Managers and Science Teachers on Laboratory Management and Enhancing their Practical Skills in the Utilization and Manipulation of Apparatuses\, Materials and Equipment
DESCRIPTION:TRAINING PROJECT PROPOSAL SDO-2023-044 \nTITLE: Division Training-Workshop Of Science Laboratory Managers and Science Teachers on Laboratory Management and Enhancing their Practical Skills in the Utilization and Manipulation of Apparatuses\, Materials and Equipment \nPROPONENT: EDUARDO P. DUCHA \nPROPOSED DATE JUNE 10-11 and 17\, 2023
URL:https://depedaurora.ph/aurora/event/division-training-workshop-of-science-laboratory-managers-and-science-teachers-on-laboratory-management-and-enhancing-their-practical-skills-in-the-utilization-and-manipulation-of-apparatuses-materi-2/
END:VEVENT
BEGIN:VEVENT
DTSTART;TZID=UTC:20230617T080000
DTEND;TZID=UTC:20230617T170000
DTSTAMP:20260422T220815
CREATED:20230525T080817Z
LAST-MODIFIED:20230525T080817Z
UID:9961-1686988800-1687021200@depedaurora.ph
SUMMARY:ONLINE SEMINAR-WORKSHOP ON TIP COURSE 1 AND 2
DESCRIPTION:DIVISION ORIENTATION ON THE IMPLEMENTATION OF THE INDUCTION PROGRAM FOR BEGINNING TEACHERS (IPBT) TO NEWLY-HIRED TEACHERS \nPROPONENT: LAURENSA L. CABANAYAN SEPS-HRD/PETER G. CALISAAN\, EPSII-HRD \nONLINE SEMINAR-WORKSHOP ON TIP COURSE 1 AND 2 \nJUNE 17\, 2023
URL:https://depedaurora.ph/aurora/event/online-seminar-workshop-on-tip-course-1-and-2/
END:VEVENT
END:VCALENDAR