BEGIN:VCALENDAR
VERSION:2.0
PRODID:-//DEPED AURORA - ECPv6.15.17.1//NONSGML v1.0//EN
CALSCALE:GREGORIAN
METHOD:PUBLISH
X-ORIGINAL-URL:https://depedaurora.ph/aurora
X-WR-CALDESC:Events for DEPED AURORA
REFRESH-INTERVAL;VALUE=DURATION:PT1H
X-Robots-Tag:noindex
X-PUBLISHED-TTL:PT1H
BEGIN:VTIMEZONE
TZID:UTC
BEGIN:STANDARD
TZOFFSETFROM:+0000
TZOFFSETTO:+0000
TZNAME:UTC
DTSTART:20220101T000000
END:STANDARD
END:VTIMEZONE
BEGIN:VEVENT
DTSTART;TZID=UTC:20230610T080000
DTEND;TZID=UTC:20230610T170000
DTSTAMP:20260422T203352
CREATED:20230525T080526Z
LAST-MODIFIED:20230525T080526Z
UID:9958-1686384000-1686416400@depedaurora.ph
SUMMARY:DIVISION ORIENTATION ON THE IMPLEMENTATION OF THE INDUCTION PROGRAM FOR BEGINNING TEACHERS (IPBT) TO NEWLY-HIRED TEACHERS
DESCRIPTION:DIVISION ORIENTATION ON THE IMPLEMENTATION OF THE INDUCTION PROGRAM FOR BEGINNING TEACHERS (IPBT) TO NEWLY-HIRED TEACHERS \nPROPONENT: LAURENSA L. CABANAYAN SEPS-HRD/PETER G. CALISAAN\, EPSII-HRD \nCLUSTER 2 ORIENTATION JUNE 10\, 2023
URL:https://depedaurora.ph/aurora/event/division-orientation-on-the-implementation-of-the-induction-program-for-beginning-teachers-ipbt-to-newly-hired-teachers-2/
END:VEVENT
BEGIN:VEVENT
DTSTART;TZID=UTC:20230610T080000
DTEND;TZID=UTC:20230610T170000
DTSTAMP:20260422T203352
CREATED:20230529T045837Z
LAST-MODIFIED:20230529T045837Z
UID:9980-1686384000-1686416400@depedaurora.ph
SUMMARY:DIVISION FEDERATION OF ELECTION OF THE SUPREME ELEMENTARY LEARNER GOVERNMENT (SELG) SUPREME SECONDARY LEARNER GOVERNMENT (SSLG) FOR THE YEAR 2023-2024
DESCRIPTION:DIVISION FEDERATION OF ELECTION OF THE SUPREME ELEMENTARY LEARNER GOVERNMENT (SELG) SUPREME SECONDARY LEARNER GOVERNMENT (SSLG) FOR THE YEAR 2023-2024 \nPROPONENTS: JUVY LYN C. MIRANDA/ REYNAN L. LAPITAN \nPROPOSED DATE : JUNE 10\, 2023
URL:https://depedaurora.ph/aurora/event/division-federation-of-election-of-the-supreme-elementary-learner-government-selg-supreme-secondary-learner-government-sslg-for-the-year-2023-2024/
END:VEVENT
BEGIN:VEVENT
DTSTART;TZID=UTC:20230610T080000
DTEND;TZID=UTC:20230611T170000
DTSTAMP:20260422T203352
CREATED:20230522T083853Z
LAST-MODIFIED:20230524T040551Z
UID:9863-1686384000-1686502800@depedaurora.ph
SUMMARY:Division Training-Workshop Of Science Laboratory Managers and Science Teachers on Laboratory Management and Enhancing their Practical Skills in the Utilization and Manipulation of Apparatuses\, Materials and Equipment
DESCRIPTION:TRAINING PROJECT PROPOSAL SDO-2023-044 \nTITLE: Division Training-Workshop Of Science Laboratory Managers and Science Teachers on Laboratory Management and Enhancing their Practical Skills in the Utilization and Manipulation of Apparatuses\, Materials and Equipment \nPROPONENT: EDUARDO P. DUCHA \nPROPOSED DATE JUNE 10-11 and 17\, 2023
URL:https://depedaurora.ph/aurora/event/division-training-workshop-of-science-laboratory-managers-and-science-teachers-on-laboratory-management-and-enhancing-their-practical-skills-in-the-utilization-and-manipulation-of-apparatuses-materia/
END:VEVENT
END:VCALENDAR