BEGIN:VCALENDAR
VERSION:2.0
PRODID:-//DEPED AURORA - ECPv6.15.17.1//NONSGML v1.0//EN
CALSCALE:GREGORIAN
METHOD:PUBLISH
X-WR-CALNAME:DEPED AURORA
X-ORIGINAL-URL:https://depedaurora.ph/aurora
X-WR-CALDESC:Events for DEPED AURORA
REFRESH-INTERVAL;VALUE=DURATION:PT1H
X-Robots-Tag:noindex
X-PUBLISHED-TTL:PT1H
BEGIN:VTIMEZONE
TZID:UTC
BEGIN:STANDARD
TZOFFSETFROM:+0000
TZOFFSETTO:+0000
TZNAME:UTC
DTSTART:20220101T000000
END:STANDARD
END:VTIMEZONE
BEGIN:VEVENT
DTSTART;TZID=UTC:20230603T080000
DTEND;TZID=UTC:20230603T170000
DTSTAMP:20260422T203222
CREATED:20230525T080451Z
LAST-MODIFIED:20230525T080451Z
UID:9954-1685779200-1685811600@depedaurora.ph
SUMMARY:DIVISION ORIENTATION ON THE IMPLEMENTATION OF THE INDUCTION PROGRAM FOR BEGINNING TEACHERS (IPBT) TO NEWLY-HIRED TEACHERS
DESCRIPTION:DIVISION ORIENTATION ON THE IMPLEMENTATION OF THE INDUCTION PROGRAM FOR BEGINNING TEACHERS (IPBT) TO NEWLY-HIRED TEACHERS \nPROPONENT: LAURENSA L. CABANAYAN SEPS-HRD/PETER G. CALISAAN\, EPSII-HRD \nCLUSTER 1 ORIENTATION JUNE 3\, 2023
URL:https://depedaurora.ph/aurora/event/division-orientation-on-the-implementation-of-the-induction-program-for-beginning-teachers-ipbt-to-newly-hired-teachers/
END:VEVENT
BEGIN:VEVENT
DTSTART;TZID=UTC:20230603T080000
DTEND;TZID=UTC:20230604T170000
DTSTAMP:20260422T203222
CREATED:20230518T025335Z
LAST-MODIFIED:20230523T030812Z
UID:9781-1685779200-1685898000@depedaurora.ph
SUMMARY:FINALIZATION OF THE LOCALLY-DEVELOPED FULLER TECHNIQUE LESSON PLANS FOR GRADE 1 TEACHERS
DESCRIPTION:PROJECT PROPOSAL NO. SDO 2023-034 \nTITLE:FINALIZATION OF THE LOCALLY-DEVELOPED FULLER TECHNIQUE LESSON PLANS FOR GRADE 1 TEACHERS \nPROPONENTS: MARIETTA DL. ALVIAR\,PSDS\, ESTRELLA D. NERI\, EPS-LR\, ROSALIND P. DE MESA\, EPS ENGLISH \nPROPOSED DATE: JUNE 3-4\, 2023
URL:https://depedaurora.ph/aurora/event/finalization-of-the-locally-developed-fuller-technique-lesson-plans-for-grade-1-teachers/
END:VEVENT
END:VCALENDAR