BEGIN:VCALENDAR
VERSION:2.0
PRODID:-//DEPED AURORA - ECPv6.15.17.1//NONSGML v1.0//EN
CALSCALE:GREGORIAN
METHOD:PUBLISH
X-WR-CALNAME:DEPED AURORA
X-ORIGINAL-URL:https://depedaurora.ph/aurora
X-WR-CALDESC:Events for DEPED AURORA
REFRESH-INTERVAL;VALUE=DURATION:PT1H
X-Robots-Tag:noindex
X-PUBLISHED-TTL:PT1H
BEGIN:VTIMEZONE
TZID:UTC
BEGIN:STANDARD
TZOFFSETFROM:+0000
TZOFFSETTO:+0000
TZNAME:UTC
DTSTART:20220101T000000
END:STANDARD
END:VTIMEZONE
BEGIN:VEVENT
DTSTART;VALUE=DATE:20230525
DTEND;VALUE=DATE:20230527
DTSTAMP:20260422T221219
CREATED:20230428T021258Z
LAST-MODIFIED:20230428T021258Z
UID:9689-1684972800-1685145599@depedaurora.ph
SUMMARY:MONITORING AND TA PROVISION ON WORK IMMERSION IMPLEMENTATION OF SENIOR HIGH SCHOOL (SHS) IMPLEMENTERS IN PRIVATE AND PUBLIC SHS
DESCRIPTION:DIVISION MEMORANDUM NO. 079 S. 2023 \nMONITORING AND TA PROVISION ON WORK IMMERSION IMPLEMENTATION OF SENIOR HIGH SCHOOL (SHS) IMPLEMENTERS IN PRIVATE AND PUBLIC SHS
URL:https://depedaurora.ph/aurora/event/monitoring-and-ta-provision-on-work-immersion-implementation-of-senior-high-school-shs-implementers-in-private-and-public-shs-4/
END:VEVENT
BEGIN:VEVENT
DTSTART;TZID=UTC:20230526T080000
DTEND;TZID=UTC:20230527T170000
DTSTAMP:20260422T221219
CREATED:20230517T064514Z
LAST-MODIFIED:20230517T064514Z
UID:9767-1685088000-1685206800@depedaurora.ph
SUMMARY:RAISING MENTAL HEALTH LITERACY AND RACE AGAINST SUICIDE FOR DEPED AURORA
DESCRIPTION:  \nDIVISION MEMORANDUM NO. 092 S. 2023 \nRAISING MENTAL HEALTH LITERACY AND RACE AGAINST SUICIDE FOR DEPED AURORA
URL:https://depedaurora.ph/aurora/event/raising-mental-health-literacy-and-race-against-suicide-for-deped-aurora/
END:VEVENT
END:VCALENDAR