BEGIN:VCALENDAR
VERSION:2.0
PRODID:-//DEPED AURORA - ECPv6.15.17.1//NONSGML v1.0//EN
CALSCALE:GREGORIAN
METHOD:PUBLISH
X-WR-CALNAME:DEPED AURORA
X-ORIGINAL-URL:https://depedaurora.ph/aurora
X-WR-CALDESC:Events for DEPED AURORA
REFRESH-INTERVAL;VALUE=DURATION:PT1H
X-Robots-Tag:noindex
X-PUBLISHED-TTL:PT1H
BEGIN:VTIMEZONE
TZID:UTC
BEGIN:STANDARD
TZOFFSETFROM:+0000
TZOFFSETTO:+0000
TZNAME:UTC
DTSTART:20220101T000000
END:STANDARD
END:VTIMEZONE
BEGIN:VEVENT
DTSTART;VALUE=DATE:20230508
DTEND;VALUE=DATE:20230513
DTSTAMP:20260422T221221
CREATED:20230503T061959Z
LAST-MODIFIED:20230503T061959Z
UID:9718-1683504000-1683935999@depedaurora.ph
SUMMARY:DIVISION FINAL ASSESSMENT AND PRESENTATION PORTFOLIO ASSESMENT OF ALS SENIOR HIGH SCHOOL COMPLETERS
DESCRIPTION:DIVISION MEMORANDUM NO. 083 \nDIVISION FINAL ASSESSMENT AND PRESENTATION PORTFOLIO ASSESMENT OF ALS SENIOR HIGH SCHOOL COMPLETERS
URL:https://depedaurora.ph/aurora/event/division-final-assessment-and-presentation-portfolio-assesment-of-als-senior-high-school-completers/
END:VEVENT
BEGIN:VEVENT
DTSTART;VALUE=DATE:20230511
DTEND;VALUE=DATE:20230513
DTSTAMP:20260422T221221
CREATED:20230428T015815Z
LAST-MODIFIED:20230428T015815Z
UID:9685-1683763200-1683935999@depedaurora.ph
SUMMARY:MONITORING AND TA PROVISION ON WORK IMMERSION IMPLEMENTATION OF SENIOR HIGH SCHOOL (SHS) IMPLEMENTERS IN PRIVATE AND PUBLIC SHS
DESCRIPTION:DIVISION MEMORANDUM NO. 079 S. 2023 \nMONITORING AND TA PROVISION ON WORK IMMERSION IMPLEMENTATION OF SENIOR HIGH SCHOOL (SHS) IMPLEMENTERS IN PRIVATE AND PUBLIC SHS
URL:https://depedaurora.ph/aurora/event/monitoring-and-ta-provision-on-work-immersion-implementation-of-senior-high-school-shs-implementers-in-private-and-public-shs-2/
END:VEVENT
END:VCALENDAR