BEGIN:VCALENDAR
VERSION:2.0
PRODID:-//DEPED AURORA - ECPv6.15.17.1//NONSGML v1.0//EN
CALSCALE:GREGORIAN
METHOD:PUBLISH
X-ORIGINAL-URL:https://depedaurora.ph/aurora
X-WR-CALDESC:Events for DEPED AURORA
REFRESH-INTERVAL;VALUE=DURATION:PT1H
X-Robots-Tag:noindex
X-PUBLISHED-TTL:PT1H
BEGIN:VTIMEZONE
TZID:UTC
BEGIN:STANDARD
TZOFFSETFROM:+0000
TZOFFSETTO:+0000
TZNAME:UTC
DTSTART:20220101T000000
END:STANDARD
END:VTIMEZONE
BEGIN:VEVENT
DTSTART;TZID=UTC:20230202T080000
DTEND;TZID=UTC:20230304T170000
DTSTAMP:20260423T023406
CREATED:20230124T112315Z
LAST-MODIFIED:20230206T082632Z
UID:8892-1675324800-1677949200@depedaurora.ph
SUMMARY:2023 PALARONG PANLALAWIGAN NG AURORA
DESCRIPTION:DIVISION MEMORANDUM NO. 021 S. 2023 \n2023 PALARONG PANLALAWIGAN NG AURORA
URL:https://depedaurora.ph/aurora/event/2023-palarong-panlalawigan-ng-aurora/
END:VEVENT
BEGIN:VEVENT
DTSTART;TZID=UTC:20230208T080000
DTEND;TZID=UTC:20230208T170000
DTSTAMP:20260423T023406
CREATED:20230201T103530Z
LAST-MODIFIED:20230206T083941Z
UID:8898-1675843200-1675875600@depedaurora.ph
SUMMARY:NOTICE OF MEETING ON WORK IMMERSION REORIENTATION FOR PUBLIC AND PRIVATE SENIOR HIGH SCHOOLS CUM ORIENTATION ON DEPED ORDER 54 s. 2022 OR THE GUIDELINES ON THE SELECTION OF SENIOR HIGH SCHOOL AND TA PROVISION
DESCRIPTION:DIVISION MEMORANDUM NO. 025 S. 202341 \nNOTICE OF MEETING ON WORK IMMERSION REORIENTATION FOR PUBLIC AND PRIVATE SENIOR HIGH SCHOOLS CUM ORIENTATION ON DEPED ORDER 54 s. 2022 OR THE GUIDELINES ON THE SELECTION OF SENIOR HIGH SCHOOL AND TA PROVISION
URL:https://depedaurora.ph/aurora/event/notice-of-meeting-on-work-immersion-reorientation-for-public-and-private-senior-high-schools-cum-orientation-on-deped-order-54-s-2022-or-the-guidelines-on-the-selection-of-senior-high-school-and-ta-2/
END:VEVENT
BEGIN:VEVENT
DTSTART;TZID=UTC:20230208T080000
DTEND;TZID=UTC:20230210T170000
DTSTAMP:20260423T023406
CREATED:20230203T122845Z
LAST-MODIFIED:20230206T084602Z
UID:8902-1675843200-1676048400@depedaurora.ph
SUMMARY:WORKSHOP SA PAGBUO NG ORTOGRAPIYANG ALTA
DESCRIPTION:DIVISION MEMORANDUM NO. 031 S. 2023 \nWORKSHOP SA PAGBUO NG ORTOGRAPIYANG ALTA
URL:https://depedaurora.ph/aurora/event/workshop-sa-pagbuo-ng-ortograpiyang-alta/
END:VEVENT
END:VCALENDAR