BEGIN:VCALENDAR
VERSION:2.0
PRODID:-//DEPED AURORA - ECPv6.15.17.1//NONSGML v1.0//EN
CALSCALE:GREGORIAN
METHOD:PUBLISH
X-ORIGINAL-URL:https://depedaurora.ph/aurora
X-WR-CALDESC:Events for DEPED AURORA
REFRESH-INTERVAL;VALUE=DURATION:PT1H
X-Robots-Tag:noindex
X-PUBLISHED-TTL:PT1H
BEGIN:VTIMEZONE
TZID:UTC
BEGIN:STANDARD
TZOFFSETFROM:+0000
TZOFFSETTO:+0000
TZNAME:UTC
DTSTART:20220101T000000
END:STANDARD
END:VTIMEZONE
BEGIN:VEVENT
DTSTART;TZID=UTC:20230111T090000
DTEND;TZID=UTC:20230111T170000
DTSTAMP:20260423T052900
CREATED:20230110T031016Z
LAST-MODIFIED:20230116T060447Z
UID:8777-1673427600-1673456400@depedaurora.ph
SUMMARY:NOTICE OF MEETING FOR MARIA AURORA EAST DISTRICT PUBLIC ELEMENTARY AND SECONDARY SCHOOL HEADS
DESCRIPTION:DIVISION MEMORANDUM NO. 005 S. 2023 \nNOTICE OF MEETING FOR MARIA AURORA EAST DISTRICT PUBLIC ELEMENTARY AND SECONDARY SCHOOL HEADS
URL:https://depedaurora.ph/aurora/event/notice-of-meeting-for-maria-aurora-east-district-public-elementary-and-secondary-school-heads/
END:VEVENT
BEGIN:VEVENT
DTSTART;TZID=UTC:20230111T130000
DTEND;TZID=UTC:20230111T170000
DTSTAMP:20260423T052900
CREATED:20230111T012408Z
LAST-MODIFIED:20230116T060847Z
UID:8783-1673442000-1673456400@depedaurora.ph
SUMMARY:NOTICE OF MEETING FOR DIPACULAO SOUTH DISTRICT PUBLIC ELEMENTARY AND SECONDARY SCHOOL HEADS
DESCRIPTION:DIVISION MEMORANDUM NO. 008 S. 2023 \nNOTICE OF MEETING FOR DIPACULAO SOUTH DISTRICT PUBLIC ELEMENTARY AND SECONDARY SCHOOL HEADS
URL:https://depedaurora.ph/aurora/event/notice-of-meeting-for-dipaculao-south-district-public-elementary-and-secondary-school-heads/
END:VEVENT
END:VCALENDAR