BEGIN:VCALENDAR
VERSION:2.0
PRODID:-//DEPED AURORA - ECPv6.15.17.1//NONSGML v1.0//EN
CALSCALE:GREGORIAN
METHOD:PUBLISH
X-ORIGINAL-URL:https://depedaurora.ph/aurora
X-WR-CALDESC:Events for DEPED AURORA
REFRESH-INTERVAL;VALUE=DURATION:PT1H
X-Robots-Tag:noindex
X-PUBLISHED-TTL:PT1H
BEGIN:VTIMEZONE
TZID:UTC
BEGIN:STANDARD
TZOFFSETFROM:+0000
TZOFFSETTO:+0000
TZNAME:UTC
DTSTART:20220101T000000
END:STANDARD
END:VTIMEZONE
BEGIN:VEVENT
DTSTART;TZID=UTC:20230109T083000
DTEND;TZID=UTC:20230110T170000
DTSTAMP:20260423T070214
CREATED:20230104T031325Z
LAST-MODIFIED:20230116T055359Z
UID:8769-1673253000-1673370000@depedaurora.ph
SUMMARY:DINALUNGAN DISTRICT RANKING FOR TEACHER II AND TEACHER III POSITIONS
DESCRIPTION:DIVISION MEMORANDUM NO. 001 S. 2023 \nDINALUNGAN DISTRICT RANKING FOR TEACHER II AND TEACHER III POSITIONS
URL:https://depedaurora.ph/aurora/event/dinalungan-district-ranking-for-teacher-ii-and-teacher-iii-positions/
END:VEVENT
BEGIN:VEVENT
DTSTART;TZID=UTC:20230109T090000
DTEND;TZID=UTC:20230109T170000
DTSTAMP:20260423T070214
CREATED:20230104T031406Z
LAST-MODIFIED:20230116T055708Z
UID:8771-1673254800-1673283600@depedaurora.ph
SUMMARY:DINGALAN SCHOOLS DISTRICT RANKING FOR TEACHER II POSITION
DESCRIPTION:DIVISION MEMORANDUM NO. 002 S. 2023 \nDINGALAN SCHOOLS DISTRICT RANKING FOR TEACHER II POSITION
URL:https://depedaurora.ph/aurora/event/dingalan-schools-district-ranking-for-teacher-ii-position/
END:VEVENT
END:VCALENDAR