BEGIN:VCALENDAR
VERSION:2.0
PRODID:-//DEPED AURORA - ECPv6.15.17.1//NONSGML v1.0//EN
CALSCALE:GREGORIAN
METHOD:PUBLISH
X-WR-CALNAME:DEPED AURORA
X-ORIGINAL-URL:https://depedaurora.ph/aurora
X-WR-CALDESC:Events for DEPED AURORA
REFRESH-INTERVAL;VALUE=DURATION:PT1H
X-Robots-Tag:noindex
X-PUBLISHED-TTL:PT1H
BEGIN:VTIMEZONE
TZID:UTC
BEGIN:STANDARD
TZOFFSETFROM:+0000
TZOFFSETTO:+0000
TZNAME:UTC
DTSTART:20210101T000000
END:STANDARD
END:VTIMEZONE
BEGIN:VEVENT
DTSTART;VALUE=DATE:20221223
DTEND;VALUE=DATE:20221224
DTSTAMP:20260423T052847
CREATED:20221029T103827Z
LAST-MODIFIED:20221227T063642Z
UID:8635-1671753600-1671839999@depedaurora.ph
SUMMARY:NOTICE OF MEETING FOR ALTERNATIVE LEARNING SYSTEM IMPLEMENTERS
DESCRIPTION:DIVISION MEMORANDUM NO. 250 S. 2022 \nNOTICE OF MEETING FOR ALTERNATIVE LEARNING SYSTEM IMPLEMENTERS
URL:https://depedaurora.ph/aurora/event/notice-of-meeting-for-alternative-learning-system-implementers-2/
END:VEVENT
END:VCALENDAR