BEGIN:VCALENDAR
VERSION:2.0
PRODID:-//DEPED AURORA - ECPv6.15.17.1//NONSGML v1.0//EN
CALSCALE:GREGORIAN
METHOD:PUBLISH
X-WR-CALNAME:DEPED AURORA
X-ORIGINAL-URL:https://depedaurora.ph/aurora
X-WR-CALDESC:Events for DEPED AURORA
REFRESH-INTERVAL;VALUE=DURATION:PT1H
X-Robots-Tag:noindex
X-PUBLISHED-TTL:PT1H
BEGIN:VTIMEZONE
TZID:UTC
BEGIN:STANDARD
TZOFFSETFROM:+0000
TZOFFSETTO:+0000
TZNAME:UTC
DTSTART:20210101T000000
END:STANDARD
END:VTIMEZONE
BEGIN:VEVENT
DTSTART;TZID=UTC:20221214T090000
DTEND;TZID=UTC:20221215T170000
DTSTAMP:20260423T070102
CREATED:20221202T161234Z
LAST-MODIFIED:20221227T063948Z
UID:8637-1671008400-1671123600@depedaurora.ph
SUMMARY:TENTH DIVISION MANAGEMENT COMMITTEE (MANCOM) MEETING
DESCRIPTION:DIVISION MEMORANDUM NO. 252 S. 2022 \nTENTH DIVISION MANAGEMENT COMMITTEE (MANCOM) MEETING
URL:https://depedaurora.ph/aurora/event/tenth-division-management-committee-mancom-meeting/
END:VEVENT
END:VCALENDAR