BEGIN:VCALENDAR
VERSION:2.0
PRODID:-//DEPED AURORA - ECPv6.15.17.1//NONSGML v1.0//EN
CALSCALE:GREGORIAN
METHOD:PUBLISH
X-WR-CALNAME:DEPED AURORA
X-ORIGINAL-URL:https://depedaurora.ph/aurora
X-WR-CALDESC:Events for DEPED AURORA
REFRESH-INTERVAL;VALUE=DURATION:PT1H
X-Robots-Tag:noindex
X-PUBLISHED-TTL:PT1H
BEGIN:VTIMEZONE
TZID:UTC
BEGIN:STANDARD
TZOFFSETFROM:+0000
TZOFFSETTO:+0000
TZNAME:UTC
DTSTART:20210101T000000
END:STANDARD
END:VTIMEZONE
BEGIN:VEVENT
DTSTART;TZID=UTC:20221212T080000
DTEND;TZID=UTC:20221214T170000
DTSTAMP:20260423T052846
CREATED:20221129T105517Z
LAST-MODIFIED:20221227T063458Z
UID:8632-1670832000-1671037200@depedaurora.ph
SUMMARY:DIVISION SEARCH FOR BEST ALTERNATIVE LEARNING SYSTEM (ALS) COMMUNITY LEARNING CENTER (CLC) AND OUTSTANDING ALS TEACHERS
DESCRIPTION:DIVISION MEMORANDUM NO. 249 S. 2022 \nDIVISION SEARCH FOR BEST ALTERNATIVE LEARNING SYSTEM (ALS) COMMUNITY LEARNING CENTER (CLC) AND OUTSTANDING ALS TEACHERS
URL:https://depedaurora.ph/aurora/event/division-search-for-best-alternative-learning-system-als-community-learning-center-clc-and-outstanding-als-teachers/
END:VEVENT
BEGIN:VEVENT
DTSTART;TZID=UTC:20221213T083000
DTEND;TZID=UTC:20221213T170000
DTSTAMP:20260423T052846
CREATED:20221202T120513Z
LAST-MODIFIED:20221227T064644Z
UID:8645-1670920200-1670950800@depedaurora.ph
SUMMARY:AWARDS CEREMONY OF THE 2022 DIVISION SEARCH FOR OUTSTANDING TEACHERS AND SCHOOL HEADS
DESCRIPTION:DIVISION MEMORANDUM NO. 257 S. 2022 \nAWARDS CEREMONY OF THE 2022 DIVISION SEARCH FOR OUTSTANDING TEACHERS AND SCHOOL HEADS
URL:https://depedaurora.ph/aurora/event/awards-ceremony-of-the-2022-division-search-for-outstanding-teachers-and-school-heads/
END:VEVENT
END:VCALENDAR