BEGIN:VCALENDAR
VERSION:2.0
PRODID:-//DEPED AURORA - ECPv6.15.17.1//NONSGML v1.0//EN
CALSCALE:GREGORIAN
METHOD:PUBLISH
X-ORIGINAL-URL:https://depedaurora.ph/aurora
X-WR-CALDESC:Events for DEPED AURORA
REFRESH-INTERVAL;VALUE=DURATION:PT1H
X-Robots-Tag:noindex
X-PUBLISHED-TTL:PT1H
BEGIN:VTIMEZONE
TZID:UTC
BEGIN:STANDARD
TZOFFSETFROM:+0000
TZOFFSETTO:+0000
TZNAME:UTC
DTSTART:20210101T000000
END:STANDARD
END:VTIMEZONE
BEGIN:VEVENT
DTSTART;VALUE=DATE:20221201
DTEND;VALUE=DATE:20221202
DTSTAMP:20260423T052859
CREATED:20221123T165303Z
LAST-MODIFIED:20221227T060850Z
UID:8630-1669852800-1669939199@depedaurora.ph
SUMMARY:MENTAL HEALTH AWARENESS AND DELIVERY OF MENTAL HEALTH AND PSYCHOSOCIAL SERVICES TRAINING
DESCRIPTION:DIVISION MEMORANDUM NO. 246 S. 2022 \nMENTAL HEALTH AWARENESS AND DELIVERY OF MENTAL HEALTH AND PSYCHOSOCIAL SERVICES TRAINING
URL:https://depedaurora.ph/aurora/event/mental-health-awareness-and-delivery-of-mental-health-and-psychosocial-services-training/
END:VEVENT
END:VCALENDAR