BEGIN:VCALENDAR
VERSION:2.0
PRODID:-//DEPED AURORA - ECPv6.15.17.1//NONSGML v1.0//EN
CALSCALE:GREGORIAN
METHOD:PUBLISH
X-WR-CALNAME:DEPED AURORA
X-ORIGINAL-URL:https://depedaurora.ph/aurora
X-WR-CALDESC:Events for DEPED AURORA
REFRESH-INTERVAL;VALUE=DURATION:PT1H
X-Robots-Tag:noindex
X-PUBLISHED-TTL:PT1H
BEGIN:VTIMEZONE
TZID:UTC
BEGIN:STANDARD
TZOFFSETFROM:+0000
TZOFFSETTO:+0000
TZNAME:UTC
DTSTART:20210101T000000
END:STANDARD
END:VTIMEZONE
BEGIN:VEVENT
DTSTART;TZID=UTC:20220906T080000
DTEND;TZID=UTC:20221128T170000
DTSTAMP:20260423T113439
CREATED:20220803T071355Z
LAST-MODIFIED:20220803T071355Z
UID:7942-1662451200-1669654800@depedaurora.ph
SUMMARY:PANLUNAS SA PAGBASA PARA SA MAG-AARAL SA IKALAWANG BAITANG
DESCRIPTION:DIVISION MEMORANDUM NO. 153 s. 2022 \nPANLUNAS SA PAGBASA PARA SA MAG-AARAL SA IKALAWANG BAITANG
URL:https://depedaurora.ph/aurora/event/panlunas-sa-pagbasa-para-sa-mag-aaral-sa-ikalawang-baitang/
END:VEVENT
BEGIN:VEVENT
DTSTART;TZID=UTC:20220910T080000
DTEND;TZID=UTC:20221007T170000
DTSTAMP:20260423T113439
CREATED:20220803T070759Z
LAST-MODIFIED:20220803T070759Z
UID:7930-1662796800-1665162000@depedaurora.ph
SUMMARY:ADOLESCENT HEALTH SERIES 2022
DESCRIPTION:DIVISION MEMORANDUM NO. 158 s. 2022 \nADOLESCENT HEALTH SERIES 2022
URL:https://depedaurora.ph/aurora/event/adolescent-health-series-2022-5/
END:VEVENT
BEGIN:VEVENT
DTSTART;TZID=UTC:20220929T080000
DTEND;TZID=UTC:20220930T170000
DTSTAMP:20260423T113439
CREATED:20220809T103337Z
LAST-MODIFIED:20220809T103337Z
UID:8037-1664438400-1664557200@depedaurora.ph
SUMMARY:RESEARCH TRAINING CUM 2022 DIVISION RESEARCH CONFERENCE
DESCRIPTION:Division Memorandum no. 166\, s. 2022 \nRESEARCH TRAINING CUM 2022 DIVISION RESEARCH CONFERENCE
URL:https://depedaurora.ph/aurora/event/research-training-cum-2022-division-research-conference-2/
END:VEVENT
BEGIN:VEVENT
DTSTART;TZID=UTC:20220930T080000
DTEND;TZID=UTC:20220930T170000
DTSTAMP:20260423T113439
CREATED:20220721T013532Z
LAST-MODIFIED:20220804T055758Z
UID:7986-1664524800-1664557200@depedaurora.ph
SUMMARY:WRITESHOP ON THE PRESEVATION OF AURORA’S CULTURES AND TRADITIONS
DESCRIPTION:DIVISION MEMORANDUM NO. 140 s. 2022 \nWRITESHOP ON THE PRESEVATION OF AURORA’S CULTURES AND TRADITIONS
URL:https://depedaurora.ph/aurora/event/writeshop-on-the-presevation-of-auroras-cultures-and-traditions-2/
END:VEVENT
END:VCALENDAR