BEGIN:VCALENDAR
VERSION:2.0
PRODID:-//DEPED AURORA - ECPv6.15.17.1//NONSGML v1.0//EN
CALSCALE:GREGORIAN
METHOD:PUBLISH
X-WR-CALNAME:DEPED AURORA
X-ORIGINAL-URL:https://depedaurora.ph/aurora
X-WR-CALDESC:Events for DEPED AURORA
REFRESH-INTERVAL;VALUE=DURATION:PT1H
X-Robots-Tag:noindex
X-PUBLISHED-TTL:PT1H
BEGIN:VTIMEZONE
TZID:UTC
BEGIN:STANDARD
TZOFFSETFROM:+0000
TZOFFSETTO:+0000
TZNAME:UTC
DTSTART:20210101T000000
END:STANDARD
END:VTIMEZONE
BEGIN:VEVENT
DTSTART;TZID=UTC:20220716T080000
DTEND;TZID=UTC:20220916T170000
DTSTAMP:20260423T130221
CREATED:20220623T050431Z
LAST-MODIFIED:20220804T070040Z
UID:8015-1657958400-1663347600@depedaurora.ph
SUMMARY:PANLUNAS SA PAGBASA PARA SA MAG-AARAL SA UNANG BAITANG
DESCRIPTION:DIVISION MEMORANDUM NO. 125 s. 2022 \nPANLUNAS SA PAGBASA PARA SA MAG-AARAL SA UNANG BAITANG
URL:https://depedaurora.ph/aurora/event/panlunas-sa-pagbasa-para-sa-mag-aaral-sa-unang-baitang/
END:VEVENT
BEGIN:VEVENT
DTSTART;TZID=UTC:20220906T080000
DTEND;TZID=UTC:20221128T170000
DTSTAMP:20260423T130221
CREATED:20220803T071355Z
LAST-MODIFIED:20220803T071355Z
UID:7942-1662451200-1669654800@depedaurora.ph
SUMMARY:PANLUNAS SA PAGBASA PARA SA MAG-AARAL SA IKALAWANG BAITANG
DESCRIPTION:DIVISION MEMORANDUM NO. 153 s. 2022 \nPANLUNAS SA PAGBASA PARA SA MAG-AARAL SA IKALAWANG BAITANG
URL:https://depedaurora.ph/aurora/event/panlunas-sa-pagbasa-para-sa-mag-aaral-sa-ikalawang-baitang/
END:VEVENT
BEGIN:VEVENT
DTSTART;TZID=UTC:20220908T080000
DTEND;TZID=UTC:20220909T170000
DTSTAMP:20260423T130221
CREATED:20220803T070720Z
LAST-MODIFIED:20220803T070720Z
UID:7928-1662624000-1662742800@depedaurora.ph
SUMMARY:ADOLESCENT HEALTH SERIES 2022
DESCRIPTION:DIVISION MEMORANDUM NO. 158 s. 2022 \nADOLESCENT HEALTH SERIES 2022
URL:https://depedaurora.ph/aurora/event/adolescent-health-series-2022-4/
END:VEVENT
END:VCALENDAR